{"text_format":"1","workbook":"xlsx","n_sheets":3,"sheets":["ADHC ATB SUMMARY","1-1-24 ADHC rates","2024 ADHC  Salient days"],"not_rendered":{"charts":0,"images":0,"macros":1,"external_links":9,"defined_names":41,"comments":0,"pivot_tables":0},"unopened":[],"bounds":{"document_bytes":16777216,"sheet_cells":100000,"rows_first":2000,"rows_last":500,"rows_between":2000,"halvings":0,"cell_chars":16384,"cell_head_chars":4096},"cells_cut":0,"cells_raw":0,"read":"whole","date_system":"1900"}

{"sheet":"ADHC ATB SUMMARY","index":0,"n_rows":62,"n_cols":4,"rows_kept":62,"cut":false,"hidden":false,"merged":[[0,0,0,3],[1,0,1,3],[2,0,2,3]]}
["New York State Department of Health"]
["Division of Finance and Rate Setting"]
["SFY 2026 ATB State Share Payment for ADHC"]
[]
[]
[null,null,5975067.3500000006,2987533.6750000003]
["Opcert","Name","Gross Total","State Share"]
["700235653","Amsterdam Nursing Home Corp (amsterdam House)",5745.74,2872.87]
["700031954","Bainbridge Nursing And Rehabilitation Center",416847.41,208423.70499999999]
["515731853","Brookside Multicare Nursing Center",138118.75,69059.375]
["700136453","Bushwick Center for Rehabilitation and Health Care",43675.66,21837.83]
["700136454","Bushwick Center for Rehabilitation and Health Care",25795.56,12897.78]
["322730453","Charles T Sitrin Health Care Center Inc",165220.16,82610.080000000002]
["295231053","Cold Spring Hills Center for Nursing and Rehabilitation",240577.75,120288.875]
["110130663","Cortland Regional Nursing and Rehabilitation Center",57859.199999999997,28929.599999999999]
["262330056","Crouse Community Center Inc",55147.05,27573.525000000001]
["262330053","Crouse Community Center Inc",29713.11,14856.555]
["262330054","Crouse Community Center Inc",18703.79,9351.8950000000004]
["700138053","Dr Susan Smith Mckinney Nursing and Rehabilitation Center",32947.599999999999,16473.8]
["532030253","Elderwood at Waverly",34193.18,17096.59]
["212430053","Foltsbrook Center for Nursing and Rehabilitation",37086.14,18543.07]
["572430253","Fort Hudson Nursing Center Inc",54745.25,27372.625]
["700180853","Four Seasons Nursing and Rehabilitation Center",450779.42,225389.71]
["700180854","Four Seasons Nursing and Rehabilitation Center",330420.23,165210.11499999999]
["700340253","Franklin Center for Rehabilitation and Nursing",116763.08,58381.54]
["435030553","Friedwald Center for Rehabilitation & Nursing LLC",131629.68,65814.84]
["515330753","Gurwin Jewish Nursing and Rehabilitation Center",398505.24,199252.62]
["295130653","Highfield Gardens Care Center of Great Neck",153648.32000000001,76824.160000000003]
["275030453","Jewish Home & Infirmary Of Rochester Ny Inc",346030.16,173015.08]
["330130953","Jewish Home Of Central New York",97094.97,48547.485000000001]
["252230053","Livingston County Center for Nursing and Rehabilitatio",1165.22,582.61]
["515131053","Long Island State Veterans Home",32646.25,16323.125]
["515432953","Maria Regina Residence Inc",33007.870000000003,16503.935000000001]
["322730553","MVHS Rehabilitation and Nursing Center",7413.21,3706.605]
["435330153","Northern Metropolitan Residential Health Care Facility Inc",80319.820000000007,40159.910000000003]
["320231753","Oneida Center for Rehabilitation and Nursing",76763.89,38381.945]
["700139153","Palm Gardens Care Center LLC",89420.59,44710.294999999998]
["700139154","Palm Gardens Care Center LLC",9683.3799999999992,4841.6899999999996]
["090130453","Plattsburgh Rehabilitation and Nursing Center",65714.39,32857.195]
["322730353","Presbyterian Home For Central New York Inc",23605.75,11802.875]
["140430053","Schofield Residence",197565.06,98782.53]
["370231253","Seneca Hill Manor Inc",924.14,462.07]
["700038453","Split Rock Rehabilitation and Health Care Center",24791.06,12395.53]
["275730053","St Anns Community (Aged)",124537.91,62268.955000000002]
["515731153","St Johnland Nursing Center Inc",19427.03,9713.5149999999994]
["370230953","St Luke Residential Health Care Facility Inc",47151.23,23575.615000000002]
["700330053","St Marys Hospital For Children Inc",282425.21999999997,141212.60999999999]
["030330753","Susquehanna Nursing & Rehabilitation Center LLC",102499.18,51249.59]
["132730153","The Baptist Home at Brookmeade",5585.02,2792.51]
["210130253","The Grand Rehabilitation and Nursing at Mohawk",89480.86,44740.43]
["130230953","The Grand Rehabilitation and Nursing at River Valley",121323.51,60661.754999999997]
["320131053","The Grand Rehabilitation and Nursing at Rome",59426.22,29713.11]
["595730453","The Grove at Valhalla Rehabilitation and Nursing Center",68145.279999999999,34072.639999999999]
["515732055","The Hamlet Rehabilitation and Healthcare Center at Nesconset",371182.84,185591.42]
["515732054","The Hamlet Rehabilitation and Healthcare Center at Nesconset",221833.78,110916.89]
["700234053","The New Jewish Home, Manhattan",130122.93,65061.464999999997]
["590930253","The New Jewish Home, Sarah Neuman",45483.76,22741.88]
["590330953","The Wartburg Home",96934.25,48467.125]
["212430153","Valley Health Services Inc",33007.870000000003,16503.935000000001]
["575030153","Washington Center for Rehabilitation and Healthcare",42912.24,21456.12]
["280100163","Wilkinson Residential Health Care Facility",38271.449999999997,19135.724999999999]
["590731953","Yonkers Gardens Center for Nursing and Rehabilitation",51048.69,25524.345000000001]

{"sheet":"1-1-24 ADHC rates","index":1,"n_rows":161,"n_cols":16,"rows_kept":161,"cut":false,"hidden":true,"merged":[[0,0,0,12]]}
["January 1, 2024 ADHC Initial Rates"]
[1,2,3,4,5,6,7,8,9,10,11,12,13,"9-6"]
["Organization","LOC CODE","Name","Date","Operating Per Diem","Capital with 5% capital reduction","Operating + Capital Rate","Combined Rate Ceiling","Lower of Rate or Ceiling","1.5% Add-On","1% add-on","7.5% add -on","Initial Jan 1, 2024 Rate","Operating rate ","Op rate from other sheet"]
["700235653","03","Amsterdam Nursing Home Corp (amsterdam House)","2024-01-01",126.13,9.83,{"$f":"+E4+F4","v":135.96},147.36000000000001,{"$f":"IF(G4<H4,G4,H4)","v":135.96},{"$f":"ROUND(+E4*0.015,2)","v":1.89},{"$f":"ROUND((+E4+J4)*0.01,2)","v":1.28},{"$f":"ROUND(+(E4+J4+K4)*0.075,2)","v":9.6999999999999993},{"$f":"SUM(I4:L4)","v":148.82999999999998},{"$f":"I4-F4","v":126.13000000000001},{"$f":"VLOOKUP(A4,#REF!,4,FALSE)","v":{"$error":"#REF!"}},{"$f":"O4=O4","v":{"$error":"#REF!"}}]
["700031954","04","Bainbridge Nursing And Rehabilitation Center","2024-01-01",91.55,1.25,{"$f":"+E5+F5","v":92.8},127.85,92.8,1.37,0.93,7.04,102.14000000000001,{"$f":"I5-F5","v":91.55},{"$f":"VLOOKUP(A5,#REF!,4,FALSE)","v":{"$error":"#REF!"}},{"$f":"O5=O5","v":{"$error":"#REF!"}}]
["592130353","03","Bethel Nursing and Rehabilitation Center","2024-01-01",122.78,2.64,{"$f":"+E6+F6","v":125.42},127.63,125.42,1.84,1.25,9.44,137.94999999999999,122.78,{"$f":"VLOOKUP(A6,#REF!,4,FALSE)","v":{"$error":"#REF!"}},{"$error":"#REF!"}]
["515731853","03","Brookside Multicare Nursing Center","2024-01-01",119.77,8.26,128.03,128.15,128.03,1.8,1.22,9.2100000000000009,140.26000000000002,119.77,{"$f":"VLOOKUP(A7,#REF!,4,FALSE)","v":{"$error":"#REF!"}},{"$error":"#REF!"}]
["700136454","04","Bushwick Center for Rehabilitation and Health Care","2024-01-01",102.67,14.69,117.36,137.22999999999999,117.36,1.54,1.04,7.89,127.83000000000001,102.67,{"$f":"VLOOKUP(A8,#REF!,4,FALSE)","v":{"$error":"#REF!"}},{"$error":"#REF!"}]
["700136453","03","Bushwick Center for Rehabilitation and Health Care","2024-01-01",84.72,12.07,96.789999999999992,137.22999999999999,96.789999999999992,1.27,0.86,6.51,105.42999999999999,84.72,{"$f":"VLOOKUP(A9,#REF!,4,FALSE)","v":{"$error":"#REF!"}},{"$error":"#REF!"}]
["322730453","03","Charles T Sitrin Health Care Center Inc","2024-01-01",88.31,11.01,99.320000000000007,100.39,99.320000000000007,1.32,0.9,6.79,108.33000000000001,88.31,{"$f":"VLOOKUP(A10,#REF!,4,FALSE)","v":{"$error":"#REF!"}},{"$error":"#REF!"}]
["295231053","03","Cold Spring Hills Center for Nursing and Rehabilitation","2024-01-01",133.4,6.45,139.85,140.69,139.85,2,1.35,10.26,153.45999999999998,133.4,{"$f":"VLOOKUP(A11,#REF!,4,FALSE)","v":{"$error":"#REF!"}},{"$error":"#REF!"}]
["110130663","03","Cortland Regional Nursing and Rehabilitation Center","2024-01-01",402.64,9.14,411.78,95.65,95.65,6.04,4.09,30.96,136.74,86.51,{"$f":"VLOOKUP(A12,#REF!,4,FALSE)","v":{"$error":"#REF!"}},{"$error":"#REF!"}]
["262330057","07","Crouse Community Center Inc (New Unit)","2024-01-01",103.2,4.92,108.12,107.1,107.1,1.55,1.05,7.94,117.63999999999999,102.17999999999999,{"$f":"VLOOKUP(A13,#REF!,4,FALSE)","v":{"$error":"#REF!"}},{"$error":"#REF!"}]
["262330056","06","Crouse Community Center Inc","2024-01-01",86.18,5.95,92.13000000000001,107.1,92.13000000000001,1.29,0.87,6.63,100.92000000000002,86.18,{"$f":"VLOOKUP(A14,#REF!,4,FALSE)","v":{"$error":"#REF!"}},{"$error":"#REF!"}]
["700138054","04","Dr Susan Smith Mckinney Nursing and Rehabilitation Center","2024-01-01",151,{"$f":"ROUND(12.02*0.95,2)","v":11.42},162.41999999999999,147.27000000000001,147.27000000000001,2.27,1.53,11.61,162.68,135.85000000000002,{"$f":"VLOOKUP(A15,#REF!,4,FALSE)","v":{"$error":"#REF!"}},{"$error":"#REF!"}]
["700138053","03","Dr Susan Smith Mckinney Nursing and Rehabilitation Center","2024-01-01",103.51,{"$f":"ROUND(40.3*0.95,2)","v":38.29},141.80000000000001,147.27000000000001,141.80000000000001,1.55,1.05,7.96,152.36000000000004,103.51000000000002,{"$f":"VLOOKUP(A16,#REF!,4,FALSE)","v":{"$error":"#REF!"}},{"$error":"#REF!"}]
["532030253","03","Elderwood at Waverly","2024-01-01",90.94,8.81,99.75,117.11,99.75,1.36,0.92,6.99,109.02,90.94,{"$f":"VLOOKUP(A17,#REF!,4,FALSE)","v":{"$error":"#REF!"}},{"$error":"#REF!"}]
["700337553","03","Fairview Nursing Care Center Inc","2024-01-01",91.92,2.75,94.67,142.96,94.67,1.38,0.93,7.07,104.05000000000001,91.92,{"$f":"VLOOKUP(A18,#REF!,4,FALSE)","v":{"$error":"#REF!"}},{"$error":"#REF!"}]
["212430053","03","Foltsbrook Center for Nursing and Rehabilitation","2024-01-01",66.36,9.8000000000000007,76.16,90.65,76.16,1,0.67,5.0999999999999996,82.929999999999993,66.36,{"$f":"VLOOKUP(A19,#REF!,4,FALSE)","v":{"$error":"#REF!"}},{"$error":"#REF!"}]
["572430253","03","Fort Hudson Nursing Center Inc","2024-01-01",87.67,8.58,96.25,96.89,96.25,1.32,0.89,6.74,105.19999999999999,87.67,{"$f":"VLOOKUP(A20,#REF!,4,FALSE)","v":{"$error":"#REF!"}},{"$error":"#REF!"}]
["700180854","04","Four Seasons Nursing and Rehabilitation Center","2024-01-01",95.15,3.93,99.080000000000013,134.07,99.080000000000013,1.43,0.97,7.32,108.80000000000001,95.15,{"$f":"VLOOKUP(A21,#REF!,4,FALSE)","v":{"$error":"#REF!"}},{"$error":"#REF!"}]
["700180853","03","Four Seasons Nursing and Rehabilitation Center","2024-01-01",86.48,2.4500000000000002,88.93,134.07,88.93,1.3,0.88,6.65,97.76,86.48,{"$f":"VLOOKUP(A22,#REF!,4,FALSE)","v":{"$error":"#REF!"}},{"$error":"#REF!"}]
["700340253","03","Franklin Center for Rehabilitation and Nursing","2024-01-01",95.13,15.43,110.56,132.51,110.56,1.43,0.97,7.31,120.27000000000001,95.13,{"$f":"VLOOKUP(A23,#REF!,4,FALSE)","v":{"$error":"#REF!"}},{"$error":"#REF!"}]
["435030553","03","Friedwald Center for Rehabilitation & Nursing LLC","2024-01-01",88.8,7.01,95.81,83.08,83.08,1.33,0.9,6.83,92.14,76.069999999999993,{"$f":"VLOOKUP(A24,#REF!,4,FALSE)","v":{"$error":"#REF!"}},{"$error":"#REF!"}]
["515330753","03","Gurwin Jewish Nursing and Rehabilitation Center","2024-01-01",131.69,6.24,137.93,178.29,137.93,1.98,1.34,10.130000000000001,151.38,131.69,{"$f":"VLOOKUP(A25,#REF!,4,FALSE)","v":{"$error":"#REF!"}},{"$error":"#REF!"}]
["295130653","03","Highfield Gardens Care Center of Great Neck","2024-01-01",99.48,10.82,110.30000000000001,147.47999999999999,110.30000000000001,1.49,1.01,7.65,120.45000000000002,99.480000000000018,{"$f":"VLOOKUP(A26,#REF!,4,FALSE)","v":{"$error":"#REF!"}},{"$error":"#REF!"}]
["275030453","03","Jewish Home & Infirmary Of Rochester Ny Inc","2024-01-01",111.45,21.48,132.93,118.1,118.1,1.67,1.1299999999999999,8.57,129.47,96.61999999999999,{"$f":"VLOOKUP(A27,#REF!,4,FALSE)","v":{"$error":"#REF!"}},{"$error":"#REF!"}]
["330130953","03","Jewish Home Of Central New York","2024-01-01",70.5,5.14,75.64,101.83,75.64,1.06,0.72,5.42,82.84,70.5,{"$f":"VLOOKUP(A28,#REF!,4,FALSE)","v":{"$error":"#REF!"}},{"$error":"#REF!"}]
["515131053","03","Long Island State Veterans Home","2024-01-01",151.19,9.2200000000000006,160.41,140.22,140.22,2.27,1.53,11.62,155.64000000000001,131,{"$f":"VLOOKUP(A29,#REF!,4,FALSE)","v":{"$error":"#REF!"}},{"$error":"#REF!"}]
["130230653","03","Lutheran Center at Poughkeepsie Inc","2024-01-01",149.57,18.3,167.87,105.53,105.53,2.2400000000000002,1.52,11.5,120.78999999999999,87.23,{"$f":"VLOOKUP(A30,#REF!,4,FALSE)","v":{"$error":"#REF!"}},{"$error":"#REF!"}]
["515432953","03","Maria Regina Residence Inc","2024-01-01",187.12,7.96,195.08,140.16,140.16,2.81,1.9,14.39,159.26,132.19999999999999,{"$f":"VLOOKUP(A31,#REF!,4,FALSE)","v":{"$error":"#REF!"}},{"$error":"#REF!"}]
["322730553","03","MVHS Rehabilitation and Nursing Center","2024-01-01",88.8,11.57,100.37,120.9,100.37,1.33,0.9,6.83,109.43,88.800000000000011,{"$f":"VLOOKUP(A32,#REF!,4,FALSE)","v":{"$error":"#REF!"}},{"$error":"#REF!"}]
["435330153","03","Northern Metropolitan Residential Health Care Facility Inc","2024-01-01",118.71,23.22,141.93,143.76,141.93,1.78,1.2,9.1300000000000008,154.04,118.71000000000001,{"$f":"VLOOKUP(A33,#REF!,4,FALSE)","v":{"$error":"#REF!"}},{"$error":"#REF!"}]
["320231753","03","Oneida Center for Rehabilitation and Nursing","2024-01-01",72.900000000000006,1.9,74.800000000000011,95.47,74.800000000000011,1.0900000000000001,0.74,5.6,82.23,72.900000000000006,{"$f":"VLOOKUP(A34,#REF!,4,FALSE)","v":{"$error":"#REF!"}},{"$error":"#REF!"}]
["700139154","04","Palm Gardens Care Center LLC","2024-01-01",100.43,2.66,103.09,138.59,103.09,1.51,1.02,7.72,113.34,100.43,{"$f":"VLOOKUP(A35,#REF!,4,FALSE)","v":{"$error":"#REF!"}},{"$error":"#REF!"}]
["700139153","03","Palm Gardens Care Center LLC","2024-01-01",82.81,9.3000000000000007,92.11,136.02000000000001,92.11,1.24,0.84,6.37,100.56,82.81,{"$f":"VLOOKUP(A36,#REF!,4,FALSE)","v":{"$error":"#REF!"}},{"$error":"#REF!"}]
["090130453","03","Plattsburgh Rehabilitation and Nursing Center","2024-01-01",81.459999999999994,7.78,89.24,97.79,89.24,1.22,0.83,6.26,97.55,81.459999999999994,{"$f":"VLOOKUP(A37,#REF!,4,FALSE)","v":{"$error":"#REF!"}},{"$error":"#REF!"}]
["322730353","03","Presbyterian Home For Central New York Inc","2024-01-01",124.21,6.56,130.76999999999998,87.95,87.95,1.86,1.26,9.5500000000000007,100.62,81.39,{"$f":"VLOOKUP(A38,#REF!,4,FALSE)","v":{"$error":"#REF!"}},{"$error":"#REF!"}]
["140430053","03","Schofield Residence","2024-01-01",135.32,5.67,140.98999999999998,92.23,92.23,2.0299999999999998,1.37,10.4,106.03000000000002,86.56,{"$f":"VLOOKUP(A39,#REF!,4,FALSE)","v":{"$error":"#REF!"}},{"$error":"#REF!"}]
["370231253","03","Seneca Hill Manor Inc","2024-01-01",77.430000000000007,4.6500000000000004,82.080000000000013,95.44,82.080000000000013,1.1599999999999999,0.79,5.95,89.980000000000018,77.430000000000007,{"$f":"VLOOKUP(A40,#REF!,4,FALSE)","v":{"$error":"#REF!"}},{"$error":"#REF!"}]
["700038453","03","Split Rock Rehabilitation and Health Care Center","2024-01-01",78.31,6.87,85.18,114.4,85.18,1.17,0.79,6.02,93.160000000000011,78.31,{"$f":"VLOOKUP(A41,#REF!,4,FALSE)","v":{"$error":"#REF!"}},{"$error":"#REF!"}]
["275730053","03","St Anns Community (Aged)","2024-01-01",102.64,19.54,122.18,93.18,93.18,1.54,1.04,7.89,103.65000000000002,73.640000000000015,{"$f":"VLOOKUP(A42,#REF!,4,FALSE)","v":{"$error":"#REF!"}},{"$error":"#REF!"}]
["370230953","03","St Luke Residential Health Care Facility Inc","2024-01-01",59.72,4.5199999999999996,64.239999999999995,95.93,64.239999999999995,0.9,0.61,4.59,70.34,59.72,{"$f":"VLOOKUP(A43,#REF!,4,FALSE)","v":{"$error":"#REF!"}},{"$error":"#REF!"}]
["700330053","03","St Marys Hospital For Children Inc","2024-01-01",243.86,25.81,269.67,329.94,269.67,3.66,2.48,18.75,294.56000000000006,243.86,{"$f":"VLOOKUP(A44,#REF!,4,FALSE)","v":{"$error":"#REF!"}},{"$error":"#REF!"}]
["030330753","03","Susquehanna Nursing & Rehabilitation Center LLC","2024-01-01",63.08,17.96,81.039999999999992,80.989999999999995,80.989999999999995,0.95,0.64,4.8499999999999996,87.429999999999993,63.029999999999994,{"$f":"VLOOKUP(A45,#REF!,4,FALSE)","v":{"$error":"#REF!"}},{"$error":"#REF!"}]
["132730153","03","The Baptist Home at Brookmeade","2024-01-01",47.59,3.81,51.400000000000006,108.78,51.400000000000006,0.71,0.48,3.66,56.25,47.59,{"$f":"VLOOKUP(A46,#REF!,4,FALSE)","v":{"$error":"#REF!"}},{"$error":"#REF!"}]
["102330204","04","The Grand Rehabilitation and Nursing at Barnwell","2024-01-01",99.74,0.43,100.17,106.94,100.17,1.5,1.01,7.67,110.35000000000001,99.74,{"$f":"VLOOKUP(A47,#REF!,4,FALSE)","v":{"$error":"#REF!"}},{"$error":"#REF!"}]
["210130253","03","The Grand Rehabilitation and Nursing at Mohawk","2024-01-01",125.04,4.87,129.91,114.15,114.15,1.88,1.27,9.61,126.91,109.28,{"$f":"VLOOKUP(A48,#REF!,4,FALSE)","v":{"$error":"#REF!"}},{"$error":"#REF!"}]
["130230953","03","The Grand Rehabilitation and Nursing at River Valley","2024-01-01",73.61,4.24,77.849999999999994,105.5,77.849999999999994,1.1000000000000001,0.75,5.66,85.359999999999985,73.61,{"$f":"VLOOKUP(A49,#REF!,4,FALSE)","v":{"$error":"#REF!"}},{"$error":"#REF!"}]
["320131053","03","The Grand Rehabilitation and Nursing at Rome","2024-01-01",51.61,6.71,58.32,77.5,58.32,0.77,0.52,3.97,63.580000000000005,51.61,{"$f":"VLOOKUP(A50,#REF!,4,FALSE)","v":{"$error":"#REF!"}},{"$error":"#REF!"}]
["515732054","04","The Hamlet Rehabilitation and Healthcare Center at Nesconset","2024-01-01",127.88,7.96,135.84,143.54,135.84,1.92,1.3,9.83,148.89000000000001,127.88000000000001,{"$f":"VLOOKUP(A51,#REF!,4,FALSE)","v":{"$error":"#REF!"}},{"$error":"#REF!"}]
["515732055","05","The Hamlet Rehabilitation and Healthcare Center at Nesconset","2024-01-01",122.6,7.31,129.91,143.54,129.91,1.84,1.24,9.43,142.42000000000002,122.6,{"$f":"VLOOKUP(A52,#REF!,4,FALSE)","v":{"$error":"#REF!"}},{"$error":"#REF!"}]
["700234053","03","The New Jewish Home, Manhattan","2024-01-01",182.56,1.49,184.05,178.32,178.32,2.74,1.85,14.04,196.95,176.82999999999998,{"$f":"VLOOKUP(A53,#REF!,4,FALSE)","v":{"$error":"#REF!"}},{"$error":"#REF!"}]
["590330953","03","The Wartburg Home","2024-01-01",111.52,5.19,116.71,152.41,116.71,1.67,1.1299999999999999,8.57,128.07999999999998,111.52,{"$f":"VLOOKUP(A54,#REF!,4,FALSE)","v":{"$error":"#REF!"}},{"$error":"#REF!"}]
["212430153","03","Valley Health Services Inc","2024-01-01",74.41,9.5399999999999991,83.949999999999989,106.74,83.949999999999989,1.1200000000000001,0.76,5.72,91.55,74.41,{"$f":"VLOOKUP(A55,#REF!,4,FALSE)","v":{"$error":"#REF!"}},{"$error":"#REF!"}]
["575030153","03","Washington Center for Rehabilitation and Healthcare","2024-01-01",72.08,8.98,81.06,98.81,81.06,1.08,0.73,5.54,88.410000000000011,72.08,{"$f":"VLOOKUP(A56,#REF!,4,FALSE)","v":{"$error":"#REF!"}},{"$error":"#REF!"}]
["582000063","03","Wayne Health Care/Newark-Wayne","2024-01-01",98.92,0.27,99.19,120.86,99.19,1.48,1,7.61,109.28,98.92,{"$f":"VLOOKUP(A57,#REF!,4,FALSE)","v":{"$error":"#REF!"}},{"$error":"#REF!"}]
["280100163","03","Wilkinson Residential Health Care Facility","2024-01-01",106.28,10.55,116.83,135.57,116.83,1.59,1.08,8.17,127.67,106.28,{"$f":"VLOOKUP(A58,#REF!,4,FALSE)","v":{"$error":"#REF!"}},{"$error":"#REF!"}]
["590731953","03","Yonkers Gardens Center for Nursing and Rehabilitation","2024-01-01",154.77000000000001,13.81,168.58,153.56,153.56,2.3199999999999998,1.57,11.9,169.35,139.75,{"$f":"VLOOKUP(A59,#REF!,4,FALSE)","v":{"$error":"#REF!"}},{"$error":"#REF!"}]
[]
[]
["380100063",null,"Aurelia Osborn Fox Memorial Hospital","04/01/2023  ",null,null,null,null,null,null,null,null,null,117.18]
["700031953",null,"Bainbridge Nursing And Rehabilitation Center","04/01/2023  ",null,null,null,null,null,null,null,null,null,98.54]
["515132153",null,"Bellhaven Center For Rehabilitation and Nursing Care","04/01/2023  ",null,null,null,null,null,null,null,null,null,103.59]
["700039953",null,"Beth Abraham Center for Rehabilitation and Nursing","04/01/2023  ",null,null,null,null,null,null,null,null,null,144.19]
["700039954",null,"Beth Abraham Center for Rehabilitation and Nursing","04/01/2023  ",null,null,null,null,null,null,null,null,null,131.51]
["700039955",null,"Beth Abraham Center for Rehabilitation and Nursing","04/01/2023  ",null,null,null,null,null,null,null,null,null,155.52999999999997]
["700139454",null,"Boro Park Center for Rehabilitation and Healthcare","04/01/2023  ",null,null,null,null,null,null,null,null,null,175.32999999999998]
["700039753",null,"Bronx Gardens Rehabilitation and Nursing Center","04/01/2023  ",null,null,null,null,null,null,null,null,null,118.82]
["700180053",null,"Brooklyn Gardens Nursing & Rehabilitation Center","04/01/2023  ",null,null,null,null,null,null,null,null,null,156.41]
["700130853",null,"Brooklyn United Methodist Church Home","04/01/2023  ",null,null,null,null,null,null,null,null,null,204.52]
["515330653",null,"Carillon Nursing and Rehabilitation Center","04/01/2023  ",null,null,null,null,null,null,null,null,null,92.669999999999987]
["700337353",null,"Caring Family Nursing and Rehabilitation Center","04/01/2023  ",null,null,null,null,null,null,null,null,null,77.239999999999995]
["700431053",null,"Carmel Richmond Healthcare and Rehabilitation Center","04/01/2023  ",null,null,null,null,null,null,null,null,null,82.85]
["330132653",null,"Central Park Rehabilitation and Nursing Center","04/01/2023  ",null,null,null,null,null,null,null,null,null,41.6]
["700335153",null,"Chapin Home For The Aging","04/01/2023  ",null,null,null,null,null,null,null,null,null,120.74000000000001]
["700132353",null,"Cobble Hill Health Center Inc","04/01/2023  ",null,null,null,null,null,null,null,null,null,97.71]
["700134853",null,"Concord Nursing and Rehabilitation Center","04/01/2023  ",null,null,null,null,null,null,null,null,null,95.1]
["500130053",null,"Corning Center for Rehabilitation and Healthcare","04/01/2023  ",null,null,null,null,null,null,null,null,null,69.19]
["262330053",null,"Crouse Community Center Inc","04/01/2023  ",null,null,null,null,null,null,null,null,null,105.26]
["262330054",null,"Crouse Community Center Inc","04/01/2023  ",null,null,null,null,null,null,null,null,null,98.5]
["010131253",null,"Daughters Of Sarah Nursing Center","04/01/2023  ",null,null,null,null,null,null,null,null,null,67.34]
["700180953",null,"Downtown Brooklyn Nursing & Rehabilitation Center","04/01/2023  ",null,null,null,null,null,null,null,null,null,150.19]
["700180955",null,"Downtown Brooklyn Nursing & Rehabilitation Center","04/01/2023  ",null,null,null,null,null,null,null,null,null,127.61]
["700180956",null,"Downtown Brooklyn Nursing & Rehabilitation Center","04/01/2023  ",null,null,null,null,null,null,null,null,null,137.22999999999999]
["700335953",null,"Dry Harbor Nursing Home","04/01/2023  ",null,null,null,null,null,null,null,null,null,73.5]
["410230953",null,"Eddy Memorial Geriatric Center","04/01/2023  ",null,null,null,null,null,null,null,null,null,87.82]
["410230954",null,"Eddy Memorial Geriatric Center","04/01/2023  ",null,null,null,null,null,null,null,null,null,67.95]
["275430453",null,"Edna Tina Wilson Living Center","04/01/2023  ",null,null,null,null,null,null,null,null,null,138.72999999999999]
["072230453",null,"Elcor Nursing and Rehabilitation Center","04/01/2023  ",null,null,null,null,null,null,null,null,null,86.38]
["503430063",null,"Elderwood at Hornell","04/01/2023  ",null,null,null,null,null,null,null,null,null,86.78]
["565530353",null,"Elderwood at North Creek","04/01/2023  ",null,null,null,null,null,null,null,null,null,177.32]
["700339653",null,"Elmhurst Care Center Inc","04/01/2023  ",null,null,null,null,null,null,null,null,null,86.960000000000008]
["272530053",null,"Fairport Baptist Homes","04/01/2023",null,null,null,null,null,null,null,null,null,68.099999999999994]
["132730053",null,"Ferncliff Nursing Home Co Inc","04/01/2023",null,null,null,null,null,null,null,null,null,48.01]
["700338753",null,"Forest View Center for Rehabilitation & Nursing","04/01/2023",null,null,null,null,null,null,null,null,null,80.38]
["700136953",null,"Haym Solomon Home For The Aged","04/01/2023",null,null,null,null,null,null,null,null,null,102.34]
["700030253",null,"Hebrew Home For The Aged At Riverdale","04/01/2023",null,null,null,null,null,null,null,null,null,144.01]
["022830653",null,"Highland Park Rehabilitation and Nursing Center","04/01/2023",null,null,null,null,null,null,null,null,null,114.34]
["700335053",null,"Hillside Manor Rehabilitation and Extended Care Center","04/01/2023",null,null,null,null,null,null,null,null,null,95.919999999999987]
["515330953",null,"Huntington Hills Center for Health and Rehabilitation","04/01/2023",null,null,null,null,null,null,null,null,null,157.90999999999997]
["502230163",null,"Ira Davenport Memorial Hospital SNF HRF","04/01/2023",null,null,null,null,null,null,null,null,null,87.03]
["700235253",null,"Isabella Geriatric Center Inc","04/01/2023",null,null,null,null,null,null,null,null,null,146.88000000000002]
["700180353",null,"King David Center for Nursing and Rehabilitation","04/01/2023",null,null,null,null,null,null,null,null,null,136.71]
["242400063",null,"Lewis County General Hospital-nursing Home Unit","04/01/2023",null,null,null,null,null,null,null,null,null,143.81]
["340230254",null,"Living Center At Geneva South","04/01/2023",null,null,null,null,null,null,null,null,null,137.68]
["340230255",null,"Living Center At Geneva South","04/01/2023",null,null,null,null,null,null,null,null,null,80.109999999999985]
["252230053",null,"Livingston County Center for Nursing and Rehabilitatio","04/01/2023",null,null,null,null,null,null,null,null,null,254.74]
["330132754",null,"Loretto Health and Rehabilitation Center","04/01/2023",null,null,null,null,null,null,null,null,null,82.72999999999999]
["330132755",null,"Loretto Health and Rehabilitation Center","04/01/2023",null,null,null,null,null,null,null,null,null,335.4]
["342930063",null,"MM Ewing Continuing Care Center","04/01/2023",null,null,null,null,null,null,null,null,null,67.86]
["700341953",null,"Margaret Tietz Center For Nursing Care, Inc.","04/01/2023",null,null,null,null,null,null,null,null,null,121.21000000000001]
["512030263",null,"Massapequa Center Rehabilitation & Nursing","04/01/2023",null,null,null,null,null,null,null,null,null,138.26999999999998]
["700039153",null,"Morningside Nursing and Rehabilitation Center","04/01/2023",null,null,null,null,null,null,null,null,null,102.27]
["700039154",null,"Morningside Nursing and Rehabilitation Center","04/01/2023",null,null,null,null,null,null,null,null,null,116.53999999999999]
["290630553",null,"Nassau Rehabilitation & Nursing Center","04/01/2023",null,null,null,null,null,null,null,null,null,297.04999999999995]
["291030053",null,"North Shore-LIJ Orzac Center for Rehabilitation","04/01/2023",null,null,null,null,null,null,null,null,null,196.03]
["435030453",null,"Northern Manor Geriatric Center Inc","04/01/2023",null,null,null,null,null,null,null,null,null,83.199999999999989]
["290230653",null,"Park Avenue Extended Care Facility","04/01/2023",null,null,null,null,null,null,null,null,null,62.66]
["275430263",null,"Park Ridge Nursing Home","04/01/2023",null,null,null,null,null,null,null,null,null,75.81]
["275430264",null,"Park Ridge Nursing Home","04/01/2023",null,null,null,null,null,null,null,null,null,184.69]
["700330754",null,"Parker Jewish Institute for Health Care and Rehabilitation","04/01/2023",null,null,null,null,null,null,null,null,null,213.47]
["700341153",null,"Peninsula Nursing and Rehabilitation Center","04/01/2023",null,null,null,null,null,null,null,null,null,55.36]
["700038953",null,"Pinnacle Multicare Nursing and Rehabilitation Center","04/01/2023",null,null,null,null,null,null,null,null,null,145.26]
["180130853",null,"Premier Genesee Center for Nursing and Rehabilitation","04/01/2023",null,null,null,null,null,null,null,null,null,109.75]
["700030653",null,"Providence Rest","04/01/2023",null,null,null,null,null,null,null,null,null,137.59]
["395030253",null,"Putnam Ridge","04/01/2023",null,null,null,null,null,null,null,null,null,58.64]
["700341053",null,"Queens Boulevard Extended Care Facility","04/01/2023",null,null,null,null,null,null,null,null,null,66.78]
["700339753",null,"Regal Heights Rehabilitation and Health Care Center","04/01/2023",null,null,null,null,null,null,null,null,null,110.05]
["700339253",null,"Rego Park Nursing Home","04/01/2023",null,null,null,null,null,null,null,null,null,99.800000000000011]
["700339254",null,"Rego Park Nursing Home","04/01/2023",null,null,null,null,null,null,null,null,null,97.97]
["145130453",null,"Rosa Coplon Jewish Home","04/01/2023",null,null,null,null,null,null,null,null,null,103.73]
["526230153",null,"Roscoe Rehabilitation and Nursing Center","04/01/2023",null,null,null,null,null,null,null,null,null,86.05]
["700103353",null,"Rutland Nursing Home Co Inc","04/01/2023",null,null,null,null,null,null,null,null,null,126.78]
["220100053",null,"Samaritan Keep Nursing Home Inc","04/01/2023",null,null,null,null,null,null,null,null,null,57.839999999999996]
["352330453",null,"Sapphire Nursing and Rehab at Goshen","04/01/2023",null,null,null,null,null,null,null,null,null,65.12]
["350230553",null,"Sapphire Nursing at Meadow Hill","04/01/2023",null,null,null,null,null,null,null,null,null,51.01]
["590432253",null,"Schaffer Extended Care Center","04/01/2023",null,null,null,null,null,null,null,null,null,113.59]
["352930153",null,"Schervier Pavilion","04/01/2023",null,null,null,null,null,null,null,null,null,79.08]
["700131853",null,"Schulman and Schachne Institute for Nursing and Rehabilitat","04/01/2023",null,null,null,null,null,null,null,null,null,151.16999999999999]
["700430453",null,"Sea View Hospital Rehabilitation Center And Home","04/01/2023",null,null,null,null,null,null,null,null,null,164.59]
["455230053",null,"Seton Health at Schuyler Ridge Residential Healthcare","04/01/2023",null,null,null,null,null,null,null,null,null,54.96]
["700136253",null,"Sheepshead Nursing and Rehabilitation Center","04/01/2023",null,null,null,null,null,null,null,null,null,92.46]
["612000063",null,"Soldiers And Sailors Memorial Hospital Extended Care Unit","04/01/2023",null,null,null,null,null,null,null,null,null,85.92]
["592530053",null,"St Cabrini Nursing Home","04/01/2023",null,null,null,null,null,null,null,null,null,88.689999999999984]
["330132153",null,"St Camillus Residential Health Care Facility","04/01/2023",null,null,null,null,null,null,null,null,null,93.38000000000001]
["515731153",null,"St Johnland Nursing Center Inc","04/01/2023",null,null,null,null,null,null,null,null,null,115.04999999999998]
["270135353",null,"St Johns Health Care Corporation","04/01/2023",null,null,null,null,null,null,null,null,null,80.33]
["010130753",null,"St Margarets Center","04/01/2023",null,null,null,null,null,null,null,null,null,125.82]
["700036653",null,"St Vincent Depaul Residence","04/01/2023",null,null,null,null,null,null,null,null,null,102.14000000000001]
["522030153",null,"Sullivan County Adult Care Center","04/01/2023",null,null,null,null,null,null,null,null,null,141.12]
["556730353",null,"Ten Broeck Center for Rehabilitation and Nursing","04/01/2023",null,null,null,null,null,null,null,null,null,149.46]
["056630253",null,"The Commons on St. Anthony, A Skilled Nursing & Short Term Rehabilitation Commun","04/01/2023",null,null,null,null,null,null,null,null,null,100.86]
["595730453",null,"The Grove at Valhalla Rehabilitation and Nursing Center","04/01/2023",null,null,null,null,null,null,null,null,null,121.42999999999999]
["276330053",null,"The Highlands Living Center","04/01/2023",null,null,null,null,null,null,null,null,null,124.39999999999999]
["590930253",null,"The New Jewish Home, Sarah Neuman","04/01/2023",null,null,null,null,null,null,null,null,null,119.94]
["700039653",null,"The Plaza Rehab and Nursing Center (Bronx County)","04/01/2023",null,null,null,null,null,null,null,null,null,223.72]
["700039853",null,"Triboro Center for Rehabilitation and Nursing (Bronx County)","04/01/2023",null,null,null,null,null,null,null,null,null,81.34]
["700233555",null,"Villagecare Rehabilitation and Nursing Center","04/01/2023",null,null,null,null,null,null,null,null,null,169.74]
["700233556",null,"Villagecare Rehabilitation and Nursing Center","04/01/2023",null,null,null,null,null,null,null,null,null,81.14]
["170230053",null,"Wells Nursing Home Inc","04/01/2023",null,null,null,null,null,null,null,null,null,61.430000000000007]

{"sheet":"2024 ADHC  Salient days","index":2,"n_rows":160,"n_cols":13,"rows_kept":160,"cut":false,"hidden":true,"merged":[]}
["MMIS+locator code","Loc","Organization","MMIS","MMIS salient","Name","2021 Salient Days","2022 Salient days","2023 Salient data","2024 days",null,null,"Opsert"]
["29936993","3","700235653",1958263,2993699,"Amsterdam Nursing Home Corp (amsterdam House)",194,460,236,{"$f":"IFERROR(VLOOKUP(C2,[9]Summary!$C$10:$K$164,9,FALSE),0)","v":286},null,null,"700235653"]
["16314563","3","380100063",1631456,1631456,"Aurelia Osborn Fox Memorial Hospital",0,0,0,{"$f":"IFERROR(VLOOKUP(C3,[9]Summary!$C$10:$K$164,9,FALSE),0)","v":0},null,null,"380100063"]
[null,null,"132730153",null,null,"BAPTIST HOME AT BROOKMEADE",null,null,null,{"$f":"IFERROR(VLOOKUP(C4,[9]Summary!$C$10:$K$164,9,FALSE),0)","v":0}]
["15569543","3","700031953",1556954,1556954,"Bainbridge Nursing And Rehabilitation Center",0,0,0,{"$f":"IFERROR(VLOOKUP(C5,[9]Summary!$C$10:$K$164,9,FALSE),0)","v":0},null,null,"700031953"]
["15569544","4","700031954",1556954,1556954,"Bainbridge Nursing And Rehabilitation Center",11957,24759,24057,{"$f":"IFERROR(VLOOKUP(C6,[9]Summary!$C$10:$K$164,9,FALSE),0)","v":20622},null,null,"700031954"]
["14490903","3","515132153",1449090,1449090,"Bellhaven Center For Rehabilitation and Nursing Care",0,0,0,{"$f":"IFERROR(VLOOKUP(C7,[9]Summary!$C$10:$K$164,9,FALSE),0)","v":0},null,null,"515132153"]
["7914423","3","700039953",791442,791442,"Beth Abraham Center for Rehabilitation and Nursing",0,0,0,{"$f":"IFERROR(VLOOKUP(C8,[9]Summary!$C$10:$K$164,9,FALSE),0)","v":0},null,null,"700039953"]
["7914424","4","700039954",791442,791442,"Beth Abraham Center for Rehabilitation and Nursing",0,0,0,{"$f":"IFERROR(VLOOKUP(C9,[9]Summary!$C$10:$K$164,9,FALSE),0)","v":0},null,null,"700039954"]
["7914425","5","700039955",791442,791442,"Beth Abraham Center for Rehabilitation and Nursing",0,0,0,{"$f":"IFERROR(VLOOKUP(C10,[9]Summary!$C$10:$K$164,9,FALSE),0)","v":0},null,null,"700039955"]
["21440033","3","592130353",2144003,2144003,"Bethel Nursing and Rehabilitation Center",2734,1455,2525,{"$f":"IFERROR(VLOOKUP(C11,[9]Summary!$C$10:$K$164,9,FALSE),0)","v":0},null,null,"592130153"]
["3999864","4","700139454",399986,399986,"Boro Park Center for Rehabilitation and Healthcare",0,0,0,{"$f":"IFERROR(VLOOKUP(C12,[9]Summary!$C$10:$K$164,9,FALSE),0)","v":0},null,null,"700139454"]
["16176103","3","700039753",1617610,1617610,"Bronx Gardens Rehabilitation and Nursing Center",0,0,0,{"$f":"IFERROR(VLOOKUP(C13,[9]Summary!$C$10:$K$164,9,FALSE),0)","v":0},null,null,"700039753"]
["19353043","3","700180053",1935304,1935304,"Brooklyn Gardens Nursing & Rehabilitation Center",0,0,0,{"$f":"IFERROR(VLOOKUP(C14,[9]Summary!$C$10:$K$164,9,FALSE),0)","v":0},null,null,"700180053"]
["23242253","3","700130853",2324225,2324225,"Brooklyn United Methodist Church Home",0,0,0,{"$f":"IFERROR(VLOOKUP(C15,[9]Summary!$C$10:$K$164,9,FALSE),0)","v":0},null,null,"700130853"]
["29982093","3","515731853",1061178,2998209,"Brookside Multicare Nursing Center",0,5681,6471,{"$f":"IFERROR(VLOOKUP(C16,[9]Summary!$C$10:$K$164,9,FALSE),0)","v":6875},null,null,"515731853"]
["30075813","3","700136453",1283105,3007581,"Bushwick Center for Rehabilitation and Health Care",0,1961,590,{"$f":"IFERROR(VLOOKUP(C17,[9]Summary!$C$10:$K$164,9,FALSE),0)","v":2174},null,null,"700136453"]
["12831054","4","700136454",1283105,1283105,"Bushwick Center for Rehabilitation and Health Care",0,1339,1980,{"$f":"IFERROR(VLOOKUP(C18,[9]Summary!$C$10:$K$164,9,FALSE),0)","v":0},null,null,"700136454"]
["19805653","3","515330653",1980565,1980565,"Carillon Nursing and Rehabilitation Center",0,0,0,{"$f":"IFERROR(VLOOKUP(C19,[9]Summary!$C$10:$K$164,9,FALSE),0)","v":0},null,null,"515330653"]
["27008833","3","700337353",2700883,2700883,"Caring Family Nursing and Rehabilitation Center",0,0,0,{"$f":"IFERROR(VLOOKUP(C20,[9]Summary!$C$10:$K$164,9,FALSE),0)","v":0},null,null,"700337353"]
["13839443","3","700431053",1383944,1383944,"Carmel Richmond Healthcare and Rehabilitation Center",0,0,0,{"$f":"IFERROR(VLOOKUP(C21,[9]Summary!$C$10:$K$164,9,FALSE),0)","v":0},null,null,"700431053"]
["19921303","3","330132653",1992130,1992130,"Central Park Rehabilitation and Nursing Center",0,0,0,{"$f":"IFERROR(VLOOKUP(C22,[9]Summary!$C$10:$K$164,9,FALSE),0)","v":0},null,null,"330132653"]
["16523773","3","700335153",1652377,1652377,"Chapin Home For The Aging",0,0,0,{"$f":"IFERROR(VLOOKUP(C23,[9]Summary!$C$10:$K$164,9,FALSE),0)","v":0},null,null,"700335153"]
["6335503","3","322730453",633550,633550,"Charles T Sitrin Health Care Center Inc",2570,6415,7862,{"$f":"IFERROR(VLOOKUP(C24,[9]Summary!$C$10:$K$164,9,FALSE),0)","v":8224},null,null,"322730453"]
["15997243","3","700132353",1599724,1599724,"Cobble Hill Health Center Inc",0,0,0,{"$f":"IFERROR(VLOOKUP(C25,[9]Summary!$C$10:$K$164,9,FALSE),0)","v":0},null,null,"700132353"]
["29978223","3","295231053",1386992,2997822,"Cold Spring Hills Center for Nursing and Rehabilitation",3621,10183,12043,{"$f":"IFERROR(VLOOKUP(C26,[9]Summary!$C$10:$K$164,9,FALSE),0)","v":11975},null,null,"295231053"]
["23493063","3","700134853",2349306,2349306,"Concord Nursing and Rehabilitation Center",0,0,0,{"$f":"IFERROR(VLOOKUP(C27,[9]Summary!$C$10:$K$164,9,FALSE),0)","v":0},null,null,"700134853"]
["18119943","3","500130053",1811994,1811994,"Corning Center for Rehabilitation and Healthcare",0,0,0,{"$f":"IFERROR(VLOOKUP(C28,[9]Summary!$C$10:$K$164,9,FALSE),0)","v":0},null,null,"500130053"]
["14447513","3","110130663",1444751,1444751,"Cortland Regional Nursing and Rehabilitation Center",977,2497,3239,{"$f":"IFERROR(VLOOKUP(C29,[9]Summary!$C$10:$K$164,9,FALSE),0)","v":2862},null,null,"110130663"]
["29954443","3","262330053",1927999,2995444,"Crouse Community Center Inc",0,348,973,{"$f":"IFERROR(VLOOKUP(C30,[9]Summary!$C$10:$K$164,9,FALSE),0)","v":1479},null,null,"262330053"]
["29954444","4","262330054",1927999,2995444,"Crouse Community Center Inc",1283,1617,975,{"$f":"IFERROR(VLOOKUP(C31,[9]Summary!$C$10:$K$164,9,FALSE),0)","v":931},null,null,"262330054"]
["29954446","6","262330056",1927999,2995444,"Crouse Community Center Inc",1577,2579,2468,{"$f":"IFERROR(VLOOKUP(C32,[9]Summary!$C$10:$K$164,9,FALSE),0)","v":2745},null,null,"262330056"]
["29954447","7","262330057",1927999,2995444,"Crouse Community Center Inc",1948,0,0,{"$f":"IFERROR(VLOOKUP(C33,[9]Summary!$C$10:$K$164,9,FALSE),0)","v":0},null,null,"262330057"]
["11172663","3","010131253",1117266,1117266,"Daughters Of Sarah Nursing Center",0,0,0,{"$f":"IFERROR(VLOOKUP(C34,[9]Summary!$C$10:$K$164,9,FALSE),0)","v":0},null,null,"010131253"]
["10244463","3","700180953",1024446,1024446,"Downtown Brooklyn Nursing & Rehabilitation Center",0,0,0,{"$f":"IFERROR(VLOOKUP(C35,[9]Summary!$C$10:$K$164,9,FALSE),0)","v":0},null,null,"700180953"]
["10244465","5","700180955",1024446,1024446,"Downtown Brooklyn Nursing & Rehabilitation Center",0,0,0,{"$f":"IFERROR(VLOOKUP(C36,[9]Summary!$C$10:$K$164,9,FALSE),0)","v":0},null,null,"700180955"]
["10244466","6","700180956",1024446,1024446,"Downtown Brooklyn Nursing & Rehabilitation Center",0,0,0,{"$f":"IFERROR(VLOOKUP(C37,[9]Summary!$C$10:$K$164,9,FALSE),0)","v":0},null,null,"700180956"]
["19352993","3","700138053",1935299,1935299,"Dr Susan Smith Mckinney Nursing and Rehabilitation Center",0,277,1338,{"$f":"IFERROR(VLOOKUP(C38,[9]Summary!$C$10:$K$164,9,FALSE),0)","v":1640},null,null,"700138053"]
["19352994","4","700138054",1935299,1935299,"Dr Susan Smith Mckinney Nursing and Rehabilitation Center",0,0,0,{"$f":"IFERROR(VLOOKUP(C39,[9]Summary!$C$10:$K$164,9,FALSE),0)","v":0},null,null,"700138054"]
["18989843","3","700335953",1898984,1898984,"Dry Harbor Nursing Home",0,0,0,{"$f":"IFERROR(VLOOKUP(C40,[9]Summary!$C$10:$K$164,9,FALSE),0)","v":0},null,null,"700335953"]
["5452083","3","410230953",545208,545208,"Eddy Memorial Geriatric Center",0,0,0,{"$f":"IFERROR(VLOOKUP(C41,[9]Summary!$C$10:$K$164,9,FALSE),0)","v":0},null,null,"410230953"]
["5452084","4","410230954",545208,545208,"Eddy Memorial Geriatric Center",0,0,0,{"$f":"IFERROR(VLOOKUP(C42,[9]Summary!$C$10:$K$164,9,FALSE),0)","v":0},null,null,"410230954"]
["15358403","3","275430453",1535840,1535840,"Edna Tina Wilson Living Center",0,0,0,{"$f":"IFERROR(VLOOKUP(C43,[9]Summary!$C$10:$K$164,9,FALSE),0)","v":0},null,null,"275430453"]
["29963303","3","072230453",357988,2996330,"Elcor Nursing and Rehabilitation Center",823,0,0,{"$f":"IFERROR(VLOOKUP(C44,[9]Summary!$C$10:$K$164,9,FALSE),0)","v":0},null,"no days for 2022","072230453"]
["11987963","3","503430063",1198796,1198796,"Elderwood at Hornell",0,0,0,{"$f":"IFERROR(VLOOKUP(C45,[9]Summary!$C$10:$K$164,9,FALSE),0)","v":0},null,null,"503430063"]
["10537813","3","565530353",1053781,1053781,"Elderwood at North Creek",0,0,0,{"$f":"IFERROR(VLOOKUP(C46,[9]Summary!$C$10:$K$164,9,FALSE),0)","v":0},null,null,"565530353"]
["30066043","3","532030253",1008020,3006604,"Elderwood at Waverly",281,44,1415,{"$f":"IFERROR(VLOOKUP(C47,[9]Summary!$C$10:$K$164,9,FALSE),0)","v":1702},null,null,"\t532030153"]
["21015863","3","700339653",2101586,2101586,"Elmhurst Care Center Inc",0,0,0,{"$f":"IFERROR(VLOOKUP(C48,[9]Summary!$C$10:$K$164,9,FALSE),0)","v":0},null,null,"700339653"]
["17033823","3","272530053",1703382,1703382,"Fairport Baptist Homes",0,0,0,{"$f":"IFERROR(VLOOKUP(C49,[9]Summary!$C$10:$K$164,9,FALSE),0)","v":0},null,null,"272530053"]
["29945583","3","700337553",1927733,2994558,"Fairview Nursing Care Center Inc",644,2418,442,{"$f":"IFERROR(VLOOKUP(C50,[9]Summary!$C$10:$K$164,9,FALSE),0)","v":0},null,null,"700337553"]
["11518623","3","132730053",1151862,1151862,"Ferncliff Nursing Home Co Inc",0,0,0,{"$f":"IFERROR(VLOOKUP(C51,[9]Summary!$C$10:$K$164,9,FALSE),0)","v":0},null,null,"132730053"]
["29939603","3","212430053",1414460,2993960,"Foltsbrook Center for Nursing and Rehabilitation",1488,2230,2335,{"$f":"IFERROR(VLOOKUP(C52,[9]Summary!$C$10:$K$164,9,FALSE),0)","v":1846},null,null,"212430053"]
["18546593","3","700338753",1854659,1854659,"Forest View Center for Rehabilitation & Nursing",0,0,0,{"$f":"IFERROR(VLOOKUP(C53,[9]Summary!$C$10:$K$164,9,FALSE),0)","v":0},null,null,"700338753"]
["13802493","3","572430253",1380249,1380249,"Fort Hudson Nursing Center Inc",1523,2744,2749,{"$f":"IFERROR(VLOOKUP(C54,[9]Summary!$C$10:$K$164,9,FALSE),0)","v":2725},null,null,"572430253"]
["55582143","3","700180853",1693223,5558214,"Four Seasons Nursing and Rehabilitation Center",20830,27254,27372,{"$f":"IFERROR(VLOOKUP(C55,[9]Summary!$C$10:$K$164,9,FALSE),0)","v":22441},null,null,"700180853"]
["55582233",3,"700180854",1693223,5558223,"Four Seasons Nursing and Rehabilitation Center",17544,22291,22965,{"$f":"IFERROR(VLOOKUP(C56,[9]Summary!$C$10:$K$164,9,FALSE),0)","v":16447},null,"no days for 2022","700180854"]
["24440083","3","700340253",2444008,2444008,"Franklin Center for Rehabilitation and Nursing",16663,23546,19620,{"$f":"IFERROR(VLOOKUP(C57,[9]Summary!$C$10:$K$164,9,FALSE),0)","v":5812},null,null,"700340253"]
["44570213","3","435030553",2004424,4457021,"Friedwald Center for Rehabilitation & Nursing LLC",1948,3787,5452,{"$f":"IFERROR(VLOOKUP(C58,[9]Summary!$C$10:$K$164,9,FALSE),0)","v":6552},null,null,"435030553"]
["30847463","3","515330753",3084746,3084746,"Gurwin Jewish Nursing and Rehabilitation Center",518,9437,15609,{"$f":"IFERROR(VLOOKUP(C59,[9]Summary!$C$10:$K$164,9,FALSE),0)","v":19836},null,null,"515330753"]
["18191673","3","700136953",1819167,1819167,"Haym Solomon Home For The Aged",0,0,0,{"$f":"IFERROR(VLOOKUP(C60,[9]Summary!$C$10:$K$164,9,FALSE),0)","v":0},null,null,"700136953"]
["10231563","3","700030253",1023156,1023156,"Hebrew Home For The Aged At Riverdale",0,0,0,{"$f":"IFERROR(VLOOKUP(C61,[9]Summary!$C$10:$K$164,9,FALSE),0)","v":0},null,null,"700030253"]
["27176823","3","295130653",2717682,2717682,"Highfield Gardens Care Center of Great Neck",0,7671,8242,{"$f":"IFERROR(VLOOKUP(C62,[9]Summary!$C$10:$K$164,9,FALSE),0)","v":7648},null,null,"295130653"]
["17552603","3","022830653",1755260,1755260,"Highland Park Rehabilitation and Nursing Center",0,0,0,{"$f":"IFERROR(VLOOKUP(C63,[9]Summary!$C$10:$K$164,9,FALSE),0)","v":0},null,null,"022830653"]
["20659013","3","700335053",2065901,2065901,"Hillside Manor Rehabilitation and Extended Care Center",0,0,0,{"$f":"IFERROR(VLOOKUP(C64,[9]Summary!$C$10:$K$164,9,FALSE),0)","v":0},null,null,"700335053"]
["25805323","3","515330953",2580532,2580532,"Huntington Hills Center for Health and Rehabilitation",0,0,0,{"$f":"IFERROR(VLOOKUP(C65,[9]Summary!$C$10:$K$164,9,FALSE),0)","v":0},null,null,"515330953"]
["14111053","3","502230163",1411105,1411105,"Ira Davenport Memorial Hospital SNF HRF",0,0,0,{"$f":"IFERROR(VLOOKUP(C66,[9]Summary!$C$10:$K$164,9,FALSE),0)","v":0},null,null,"502230163"]
["20994613","3","700235253",2099461,2099461,"Isabella Geriatric Center Inc",0,0,0,{"$f":"IFERROR(VLOOKUP(C67,[9]Summary!$C$10:$K$164,9,FALSE),0)","v":0},null,null,"700235253"]
["29982633","3","275030453",588096,2998263,"Jewish Home & Infirmary Of Rochester Ny Inc",4904,12718,17096,{"$f":"IFERROR(VLOOKUP(C68,[9]Summary!$C$10:$K$164,9,FALSE),0)","v":17224},null,null,"275030453"]
["29954533","3","330130953",1086988,2995453,"Jewish Home Of Central New York",2764,4772,4885,{"$f":"IFERROR(VLOOKUP(C69,[9]Summary!$C$10:$K$164,9,FALSE),0)","v":4833},null,null,"330130953"]
["21047723","3","700180353",2104772,2104772,"King David Center for Nursing and Rehabilitation",0,0,0,{"$f":"IFERROR(VLOOKUP(C70,[9]Summary!$C$10:$K$164,9,FALSE),0)","v":0},null,null,"700180353"]
["14495093","3","242400063",1449509,1449509,"Lewis County General Hospital-nursing Home Unit",0,0,0,{"$f":"IFERROR(VLOOKUP(C71,[9]Summary!$C$10:$K$164,9,FALSE),0)","v":0},null,null,"242400063"]
["11109344","4","340230254",1110934,1110934,"Living Center At Geneva South",0,0,0,{"$f":"IFERROR(VLOOKUP(C72,[9]Summary!$C$10:$K$164,9,FALSE),0)","v":0},null,null,"340230254"]
["11109345","5","340230255",1110934,1110934,"Living Center At Geneva South",0,0,0,{"$f":"IFERROR(VLOOKUP(C73,[9]Summary!$C$10:$K$164,9,FALSE),0)","v":0},null,null,"340230255"]
["7125923","3","252230053",712592,712592,"Livingston County Center for Nursing and Rehabilitatio",0,0,0,{"$f":"IFERROR(VLOOKUP(C74,[9]Summary!$C$10:$K$164,9,FALSE),0)","v":58},null,null,"252230053"]
["29945213","3","515131053",1595019,2994521,"Long Island State Veterans Home",402,867,1978,{"$f":"IFERROR(VLOOKUP(C75,[9]Summary!$C$10:$K$164,9,FALSE),0)","v":1623},null,null,"515131053"]
["5825544","4","330132754",582554,582554,"Loretto Health and Rehabilitation Center",0,0,0,{"$f":"IFERROR(VLOOKUP(C76,[9]Summary!$C$10:$K$164,9,FALSE),0)","v":0},null,null,"330132754"]
["5825545","5","330132755",582554,582554,"Loretto Health and Rehabilitation Center",0,0,0,{"$f":"IFERROR(VLOOKUP(C77,[9]Summary!$C$10:$K$164,9,FALSE),0)","v":0},null,null,"330132755"]
["29968123","3","130230653",2191160,2996812,"Lutheran Center at Poughkeepsie Inc",308,132,0,{"$f":"IFERROR(VLOOKUP(C78,[9]Summary!$C$10:$K$164,9,FALSE),0)","v":0},"no days for 2023 or 2024",null,"130230653"]
["11612603","3","342930063",1161260,1161260,"MM Ewing Continuing Care Center",0,0,0,{"$f":"IFERROR(VLOOKUP(C79,[9]Summary!$C$10:$K$164,9,FALSE),0)","v":0},null,null,"342930063"]
["27797203","3","322730553",2779720,2779720,"MVHS Rehabilitation and Nursing Center",0,0,291,{"$f":"IFERROR(VLOOKUP(C80,[9]Summary!$C$10:$K$164,9,FALSE),0)","v":369},null,null,"322730553"]
["17549703","3","700341953",1754970,1754970,"Margaret Tietz Center For Nursing Care, Inc.",0,0,0,{"$f":"IFERROR(VLOOKUP(C81,[9]Summary!$C$10:$K$164,9,FALSE),0)","v":0},null,null,"700341953"]
["30269553","3","515432953",2496748,3026955,"Maria Regina Residence Inc",219,1094,1436,{"$f":"IFERROR(VLOOKUP(C82,[9]Summary!$C$10:$K$164,9,FALSE),0)","v":1643},null,null,"515432153"]
["16055453","3","512030263",1605545,1605545,"Massapequa Center Rehabilitation & Nursing",0,0,0,{"$f":"IFERROR(VLOOKUP(C83,[9]Summary!$C$10:$K$164,9,FALSE),0)","v":0},null,null,"512030263"]
["10063993","3","700039153",1006399,1006399,"Morningside Nursing and Rehabilitation Center",0,0,0,{"$f":"IFERROR(VLOOKUP(C84,[9]Summary!$C$10:$K$164,9,FALSE),0)","v":0},null,null,"700039153"]
["10063994","4","700039154",1006399,1006399,"Morningside Nursing and Rehabilitation Center",0,0,0,{"$f":"IFERROR(VLOOKUP(C85,[9]Summary!$C$10:$K$164,9,FALSE),0)","v":0},null,null,"700039154"]
["17034883","3","290630553",1703488,1703488,"Nassau Rehabilitation & Nursing Center",0,0,0,{"$f":"IFERROR(VLOOKUP(C86,[9]Summary!$C$10:$K$164,9,FALSE),0)","v":0},null,null,"290630553"]
["15438153","3","291030053",1543815,1543815,"North Shore-LIJ Orzac Center for Rehabilitation",0,0,0,{"$f":"IFERROR(VLOOKUP(C87,[9]Summary!$C$10:$K$164,9,FALSE),0)","v":0},null,null,"291030053"]
["17818283","3","435030453",1781828,1781828,"Northern Manor Geriatric Center Inc",0,0,0,{"$f":"IFERROR(VLOOKUP(C88,[9]Summary!$C$10:$K$164,9,FALSE),0)","v":0},null,null,"435030453"]
["29945123","3","435330153",1102538,2994512,"Northern Metropolitan Residential Health Care Facility Inc",4815,4152,6310,{"$f":"IFERROR(VLOOKUP(C89,[9]Summary!$C$10:$K$164,9,FALSE),0)","v":3998},null,null,"435330153"]
["16409133","3","320231753",1640913,1640913,"Oneida Center for Rehabilitation and Nursing",0,2936,2857,{"$f":"IFERROR(VLOOKUP(C90,[9]Summary!$C$10:$K$164,9,FALSE),0)","v":3821},null,null,"320231753"]
["15394773","3","700139153",1539477,1539477,"Palm Gardens Care Center LLC",2092,4920,6032,{"$f":"IFERROR(VLOOKUP(C91,[9]Summary!$C$10:$K$164,9,FALSE),0)","v":4451},null,null,"700139153"]
["15394774","4","700139154",1539477,1539477,"Palm Gardens Care Center LLC",0,0,186,{"$f":"IFERROR(VLOOKUP(C92,[9]Summary!$C$10:$K$164,9,FALSE),0)","v":482},null,null,"700139154"]
["22487683","3","290230653",2248768,2248768,"Park Avenue Extended Care Facility",0,0,0,{"$f":"IFERROR(VLOOKUP(C93,[9]Summary!$C$10:$K$164,9,FALSE),0)","v":0},null,null,"290230653"]
["11864293","3","275430263",1186429,1186429,"Park Ridge Nursing Home",0,0,0,{"$f":"IFERROR(VLOOKUP(C94,[9]Summary!$C$10:$K$164,9,FALSE),0)","v":0},null,null,"275430263"]
["11864294","4","275430264",1186429,1186429,"Park Ridge Nursing Home",0,0,0,{"$f":"IFERROR(VLOOKUP(C95,[9]Summary!$C$10:$K$164,9,FALSE),0)","v":0},null,null,"275430264"]
["6984084","4","700330754",698408,698408,"Parker Jewish Institute for Health Care and Rehabilitation",0,0,0,{"$f":"IFERROR(VLOOKUP(C96,[9]Summary!$C$10:$K$164,9,FALSE),0)","v":0},null,null,"700330754"]
["30319273","3","700341153",3031927,3031927,"Peninsula Nursing and Rehabilitation Center",0,0,0,{"$f":"IFERROR(VLOOKUP(C97,[9]Summary!$C$10:$K$164,9,FALSE),0)","v":0},null,null,"700341153"]
["11592463","3","700038953",1159246,1159246,"Pinnacle Multicare Nursing and Rehabilitation Center",0,0,0,{"$f":"IFERROR(VLOOKUP(C98,[9]Summary!$C$10:$K$164,9,FALSE),0)","v":0},null,null,"700038953"]
["23297573","3","090130453",2329757,2329757,"Plattsburgh Rehabilitation and Nursing Center",859,1738,1928,{"$f":"IFERROR(VLOOKUP(C99,[9]Summary!$C$10:$K$164,9,FALSE),0)","v":3271},null,null,"090130453"]
["6291763","3","180130853",629176,629176,"Premier Genesee Center for Nursing and Rehabilitation",569,970,0,{"$f":"IFERROR(VLOOKUP(C100,[9]Summary!$C$10:$K$164,9,FALSE),0)","v":0},null,"no data for 2023, but data for 2022","180130853"]
["10772923","3","322730353",1077292,1077292,"Presbyterian Home For Central New York Inc",185,801,1060,{"$f":"IFERROR(VLOOKUP(C101,[9]Summary!$C$10:$K$164,9,FALSE),0)","v":1175},null,null,"322730353"]
["11332973","3","700030653",1133297,1133297,"Providence Rest",0,0,0,{"$f":"IFERROR(VLOOKUP(C102,[9]Summary!$C$10:$K$164,9,FALSE),0)","v":0},null,null,"700030653"]
["23828873","3","395030253",2382887,2382887,"Putnam Ridge",0,0,0,{"$f":"IFERROR(VLOOKUP(C103,[9]Summary!$C$10:$K$164,9,FALSE),0)","v":0},null,null,"395030253"]
["17106723","3","700341053",1710672,1710672,"Queens Boulevard Extended Care Facility",0,0,0,{"$f":"IFERROR(VLOOKUP(C104,[9]Summary!$C$10:$K$164,9,FALSE),0)","v":0},null,null,"700341053"]
["24914633","3","700339753",2491463,2491463,"Regal Heights Rehabilitation and Health Care Center",0,0,0,{"$f":"IFERROR(VLOOKUP(C105,[9]Summary!$C$10:$K$164,9,FALSE),0)","v":0},null,null,"700339753"]
["17958083","3","700339253",1795808,1795808,"Rego Park Nursing Home",0,0,0,{"$f":"IFERROR(VLOOKUP(C106,[9]Summary!$C$10:$K$164,9,FALSE),0)","v":0},null,null,"700339253"]
["17958084","4","700339254",1795808,1795808,"Rego Park Nursing Home",0,0,0,{"$f":"IFERROR(VLOOKUP(C107,[9]Summary!$C$10:$K$164,9,FALSE),0)","v":0},null,null,"700339254"]
["19215803","3","145130453",1921580,1921580,"Rosa Coplon Jewish Home",0,0,0,{"$f":"IFERROR(VLOOKUP(C108,[9]Summary!$C$10:$K$164,9,FALSE),0)","v":0},null,null,"145130453"]
["14637853","3","526230153",1463785,1463785,"Roscoe Rehabilitation and Nursing Center",0,0,0,{"$f":"IFERROR(VLOOKUP(C109,[9]Summary!$C$10:$K$164,9,FALSE),0)","v":0},null,null,"526230153"]
["12219523","3","700103353",1221952,1221952,"Rutland Nursing Home Co Inc",0,0,0,{"$f":"IFERROR(VLOOKUP(C110,[9]Summary!$C$10:$K$164,9,FALSE),0)","v":0},null,null,"700103353"]
["7914513","3","220100053",791451,791451,"Samaritan Keep Nursing Home Inc",0,0,0,{"$f":"IFERROR(VLOOKUP(C111,[9]Summary!$C$10:$K$164,9,FALSE),0)","v":0},null,null,"220100053"]
["15665543","3","352330453",1566554,1566554,"Sapphire Nursing and Rehab at Goshen",0,0,0,{"$f":"IFERROR(VLOOKUP(C112,[9]Summary!$C$10:$K$164,9,FALSE),0)","v":0},null,null,"352330453"]
["21829563","3","350230553",2182956,2182956,"Sapphire Nursing at Meadow Hill",0,0,0,{"$f":"IFERROR(VLOOKUP(C113,[9]Summary!$C$10:$K$164,9,FALSE),0)","v":0},null,null,"350230553"]
["17193823","3","590432253",1719382,1719382,"Schaffer Extended Care Center",0,0,0,{"$f":"IFERROR(VLOOKUP(C114,[9]Summary!$C$10:$K$164,9,FALSE),0)","v":0},null,null,"590432253"]
["19013083","3","352930153",1901308,1901308,"Schervier Pavilion",0,0,0,{"$f":"IFERROR(VLOOKUP(C115,[9]Summary!$C$10:$K$164,9,FALSE),0)","v":0},null,null,"352930153"]
["10080113","3","140430053",1008011,1008011,"Schofield Residence",0,8295,10237,{"$f":"IFERROR(VLOOKUP(C116,[9]Summary!$C$10:$K$164,9,FALSE),0)","v":9834},null,null,"140430053"]
["25321213","3","700131853",2532121,2532121,"Schulman and Schachne Institute for Nursing and Rehabilitat",0,0,0,{"$f":"IFERROR(VLOOKUP(C117,[9]Summary!$C$10:$K$164,9,FALSE),0)","v":0},null,null,"700131853"]
["8850893","3","700430453",885089,885089,"Sea View Hospital Rehabilitation Center And Home",0,0,0,{"$f":"IFERROR(VLOOKUP(C118,[9]Summary!$C$10:$K$164,9,FALSE),0)","v":0},null,null,"700430453"]
["20692493","3","370231253",2069249,2069249,"Seneca Hill Manor Inc",0,777,1798,{"$f":"IFERROR(VLOOKUP(C119,[9]Summary!$C$10:$K$164,9,FALSE),0)","v":46},null,null,"370231253"]
["18234183","3","455230053",1823418,1823418,"Seton Health at Schuyler Ridge Residential Healthcare",0,0,0,{"$f":"IFERROR(VLOOKUP(C120,[9]Summary!$C$10:$K$164,9,FALSE),0)","v":0},null,null,"455230053"]
["24155893","3","700136253",2415589,2415589,"Sheepshead Nursing and Rehabilitation Center",0,0,0,{"$f":"IFERROR(VLOOKUP(C121,[9]Summary!$C$10:$K$164,9,FALSE),0)","v":0},null,null,"700136253"]
["16425573","3","612000063",1642557,1642557,"Soldiers And Sailors Memorial Hospital Extended Care Unit",0,0,0,{"$f":"IFERROR(VLOOKUP(C122,[9]Summary!$C$10:$K$164,9,FALSE),0)","v":0},null,null,"612000063"]
["11201033","3","700038453",1120103,1120103,"Split Rock Rehabilitation and Health Care Center",0,486,1067,{"$f":"IFERROR(VLOOKUP(C123,[9]Summary!$C$10:$K$164,9,FALSE),0)","v":1234},null,null,"700038453"]
["29947873","3","275730053",1186447,2994787,"St Anns Community (Aged)",1425,4926,5119,{"$f":"IFERROR(VLOOKUP(C124,[9]Summary!$C$10:$K$164,9,FALSE),0)","v":6356},null,null,"275730053"]
["21903523","3","592530053",2190352,2190352,"St Cabrini Nursing Home",0,0,0,{"$f":"IFERROR(VLOOKUP(C125,[9]Summary!$C$10:$K$164,9,FALSE),0)","v":0},null,null,"592530053"]
["6147643","3","330132153",614764,614764,"St Camillus Residential Health Care Facility",0,0,0,{"$f":"IFERROR(VLOOKUP(C126,[9]Summary!$C$10:$K$164,9,FALSE),0)","v":0},null,null,"330132153"]
["10643373","3","515731153",1064337,1064337,"St Johnland Nursing Center Inc",0,0,0,{"$f":"IFERROR(VLOOKUP(C127,[9]Summary!$C$10:$K$164,9,FALSE),0)","v":967},null,null,"515731153"]
["3580493","3","270135353",358049,358049,"St Johns Health Care Corporation",0,0,0,{"$f":"IFERROR(VLOOKUP(C128,[9]Summary!$C$10:$K$164,9,FALSE),0)","v":0},null,null,"270135353"]
["14075383","3","370230953",1407538,1407538,"St Luke Residential Health Care Facility Inc",839,2053,2142,{"$f":"IFERROR(VLOOKUP(C129,[9]Summary!$C$10:$K$164,9,FALSE),0)","v":2347},null,null,"370230953"]
["19788673","3","010130753",1978867,1978867,"St Margarets Center",0,0,0,{"$f":"IFERROR(VLOOKUP(C130,[9]Summary!$C$10:$K$164,9,FALSE),0)","v":0},null,null,"010130753"]
["10329113","3","700330053",1032911,1032911,"St Marys Hospital For Children Inc",8420,12282,13894,{"$f":"IFERROR(VLOOKUP(C131,[9]Summary!$C$10:$K$164,9,FALSE),0)","v":14058},null,null,"700330053"]
["14462443","3","700036653",1446244,1446244,"St Vincent Depaul Residence",0,0,0,{"$f":"IFERROR(VLOOKUP(C132,[9]Summary!$C$10:$K$164,9,FALSE),0)","v":0},null,null,"700036653"]
["14153013","3","522030153",1415301,1415301,"Sullivan County Adult Care Center",0,0,0,{"$f":"IFERROR(VLOOKUP(C133,[9]Summary!$C$10:$K$164,9,FALSE),0)","v":0},null,null,"522030153"]
["29950043","3","030330753",811629,2995004,"Susquehanna Nursing & Rehabilitation Center LLC",1595,3496,5061,{"$f":"IFERROR(VLOOKUP(C134,[9]Summary!$C$10:$K$164,9,FALSE),0)","v":5002},null,null,"030330753"]
["18987733","3","556730353",1898773,1898773,"Ten Broeck Center for Rehabilitation and Nursing",0,0,0,{"$f":"IFERROR(VLOOKUP(C135,[9]Summary!$C$10:$K$164,9,FALSE),0)","v":0},null,null,"556730353"]
["6335693","3","056630253",633569,633569,"The Commons on St. Anthony, A Skilled Nursing & Short Term Rehabilitation Commun",0,0,0,{"$f":"IFERROR(VLOOKUP(C136,[9]Summary!$C$10:$K$164,9,FALSE),0)","v":0},null,null,"056630253"]
["29946363","3","210130253",1167977,2994636,"The Grand Rehabilitation and Nursing at Mohawk",1342,3043,3960,{"$f":"IFERROR(VLOOKUP(C137,[9]Summary!$C$10:$K$164,9,FALSE),0)","v":4454},null,null,"210130253"]
["29934973","3","130230953",2491674,2993497,"The Grand Rehabilitation and Nursing at River Valley",3188,5628,6043,{"$f":"IFERROR(VLOOKUP(C138,[9]Summary!$C$10:$K$164,9,FALSE),0)","v":6039},null,null,"130230953"]
["20053653","3","320131053",2005365,2005365,"The Grand Rehabilitation and Nursing at Rome",1767,2726,2811,{"$f":"IFERROR(VLOOKUP(C139,[9]Summary!$C$10:$K$164,9,FALSE),0)","v":2958},null,null,"320131053"]
["29227143","3","595730453",2922714,2922714,"The Grove at Valhalla Rehabilitation and Nursing Center",0,6947,6786,{"$f":"IFERROR(VLOOKUP(C140,[9]Summary!$C$10:$K$164,9,FALSE),0)","v":3392},null,null,"595730353"]
["29948564","4","515732054",848751,2994856,"The Hamlet Rehabilitation and Healthcare Center at Nesconset",4466,8731,3743,{"$f":"IFERROR(VLOOKUP(C141,[9]Summary!$C$10:$K$164,9,FALSE),0)","v":0},null,null,"515732054"]
["29948565","5","515732055",848751,2994856,"The Hamlet Rehabilitation and Healthcare Center at Nesconset",10309,16484,6517,{"$f":"IFERROR(VLOOKUP(C142,[9]Summary!$C$10:$K$164,9,FALSE),0)","v":0},null,null,"515732055"]
["16019903","3","276330053",1601990,1601990,"The Highlands Living Center",0,0,0,{"$f":"IFERROR(VLOOKUP(C143,[9]Summary!$C$10:$K$164,9,FALSE),0)","v":0},null,null,"276330053"]
["11718243","3","700234053",1171824,1171824,"The New Jewish Home, Manhattan",2150,6524,7130,{"$f":"IFERROR(VLOOKUP(C144,[9]Summary!$C$10:$K$164,9,FALSE),0)","v":6469},null,null,"700234053"]
["3139423","3","590930253",1957991,313942,"The New Jewish Home, Sarah Neuman",543,0,0,{"$f":"IFERROR(VLOOKUP(C145,[9]Summary!$C$10:$K$164,9,FALSE),0)","v":2264},null,null,"590930253"]
["3139423","3","700039653",313942,313942,"The Plaza Rehab and Nursing Center (Bronx County)",0,0,629,{"$f":"IFERROR(VLOOKUP(C146,[9]Summary!$C$10:$K$164,9,FALSE),0)","v":2264},null,null,"700039653"]
["29943833","3","590330953",1024437,2994383,"The Wartburg Home",1524,2391,4107,{"$f":"IFERROR(VLOOKUP(C147,[9]Summary!$C$10:$K$164,9,FALSE),0)","v":4787},null,null,"590330953"]
["11641303","3","700039853",1164130,1164130,"Triboro Center for Rehabilitation and Nursing (Bronx County)",0,0,0,{"$f":"IFERROR(VLOOKUP(C148,[9]Summary!$C$10:$K$164,9,FALSE),0)","v":0},null,null,"700039853"]
["12810983","3","212430153",1281098,1281098,"Valley Health Services Inc",0,0,1113,{"$f":"IFERROR(VLOOKUP(C149,[9]Summary!$C$10:$K$164,9,FALSE),0)","v":0},null,null,"212430153"]
["11863055","5","700233555",1186305,1186305,"Villagecare Rehabilitation and Nursing Center",0,0,0,{"$f":"IFERROR(VLOOKUP(C150,[9]Summary!$C$10:$K$164,9,FALSE),0)","v":0},null,null,"700233555"]
["11863056","6","700233556",1186305,1186305,"Villagecare Rehabilitation and Nursing Center",0,0,0,{"$f":"IFERROR(VLOOKUP(C151,[9]Summary!$C$10:$K$164,9,FALSE),0)","v":0},null,null,"700233556"]
["14087403","3","575030153",1408740,1408740,"Washington Center for Rehabilitation and Healthcare",600,2274,2377,{"$f":"IFERROR(VLOOKUP(C152,[9]Summary!$C$10:$K$164,9,FALSE),0)","v":2136},null,null,"575030153"]
["12787023","3","582000063",1278702,1278702,"Wayne Health Care",1687,262,0,{"$f":"IFERROR(VLOOKUP(C153,[9]Summary!$C$10:$K$164,9,FALSE),0)","v":0},null,null,"582000063"]
["15920983","3","170230053",1592098,1592098,"Wells Nursing Home Inc",0,0,0,{"$f":"IFERROR(VLOOKUP(C154,[9]Summary!$C$10:$K$164,9,FALSE),0)","v":0},null,null,"170230053"]
["31342053","3","280100163",720970,3134205,"Wilkinson Residential Health Care Facility",650,0,0,{"$f":"IFERROR(VLOOKUP(C155,[9]Summary!$C$10:$K$164,9,FALSE),0)","v":1905},null,null,"280100163"]
["7181853","3","590731953",718185,718185,"Yonkers Gardens Center for Nursing and Rehabilitation",3202,2940,2769,{"$f":"IFERROR(VLOOKUP(C156,[9]Summary!$C$10:$K$164,9,FALSE),0)","v":2541},null,null,"590731953"]
["30075905","5","700136455",1283105,3007590,"Bushwick Center for Rehabilitation and Health Care",0,982,1373,{"$f":"IFERROR(VLOOKUP(C157,[9]Summary!$C$10:$K$164,9,FALSE),0)","v":1284},null,null,"700136455"]
["102330204",null,"102330204",null,310632,"The Grand Rehabilitation and Nursing at Barnwell",null,null,null,{"$f":"IFERROR(VLOOKUP(C158,[9]Summary!$C$10:$K$164,9,FALSE),0)","v":0}]
[]
[null,null,null,null,null,null,149947,287340,303693,{"$f":"SUM(J2:J158)","v":268107}]