Workbook

Sheet 2024 NHQP
A1: New York State Department of Health
A2: Division of Finance and Rate Setting
A3: 2024 NHQP
F5: NHQP Contribution | H5: NHQP Award | J5: NET
A6: OPCERT | B6: Name | C6: Quality Score | D6: 2024 Medicaid Days | E6: JKL | F6: Facility's Medicaid Revenue (1/1/24 Rate * 2024 Days) | G6: Contribution to the $50M pool | H6: Medicaid Revenue x AWARD FACTOR | I6: Share of $50 million | J6: Net Contribution / Award
F7: =SUM(F8:F576) -> 7.4552963e+09 | G7: 50000000 | H7: =SUM(H8:H576) -> 7.9951109e+09 | I7: =SUM(I8:I576) -> 50000000 | J7: =SUM(J8:J576) -> -0.070000002
A8: 2950302N | B8: A Holly Patterson Extended Care Facility | C8: 3 | D8: 151901 | E8: 0 | F8: =VLOOKUP(A8,'1-1-2024 Rates-Revenue'!$A$9:$O$599,15,FALSE) -> 48283820 | G8: =SUM(F8/$F$7)*50000000 -> 323822.27 | H8: =IF(E8=1,F8*0,(IF(C8=1,F8*3)+IF(C8=2,F8*2.25)+IF(C8=3,F8*1.5)+IF(C8=4,F8*0)+IF(C8=5,F8*0))) -> 72425729 | I8: =SUM(H8/$H$7)*50000000 -> 452937.61 | J8: =ROUND(SUM(I8-G8),2) -> 129115.34
A9: 2725301N | B9: Aaron Manor Rehabilitation and Nursing Center | C9: 4 | D9: 31542 | E9: 0 | F9: =VLOOKUP(A9,'1-1-2024 Rates-Revenue'!$A$9:$O$599,15,FALSE) -> 7813513.7 | G9: =SUM(F9/$F$7)*50000000 -> 52402.436 | H9: =IF(E9=1,F9*0,(IF(C9=1,F9*3)+IF(C9=2,F9*2.25)+IF(C9=3,F9*1.5)+IF(C9=4,F9*0)+IF(C9=5,F9*0))) -> 0 | I9: =SUM(H9/$H$7)*50000000 -> 0 | J9: =ROUND(SUM(I9-G9),2) -> -52402.44
A10: 0420302N | B10: Absolut Center for Nursing and Rehabilitation at Allegany, LLC | C10: 1 | D10: 7956 | E10: 0 | F10: =VLOOKUP(A10,'1-1-2024 Rates-Revenue'!$A$9:$O$599,15,FALSE) -> 1686751.6 | G10: =SUM(F10/$F$7)*50000000 -> 11312.438 | H10: =IF(E10=1,F10*0,(IF(C10=1,F10*3)+IF(C10=2,F10*2.25)+IF(C10=3,F10*1.5)+IF(C10=4,F10*0)+IF(C10=5,F10*0))) -> 5060254.7 | I10: =SUM(H10/$H$7)*50000000 -> 31645.932 | J10: =ROUND(SUM(I10-G10),2) -> 20333.49
A11: 1422303N | B11: Absolut Center for Nursing and Rehabilitation at Aurora Park, LLC | C11: 3 | D11: 49594 | E11: 0 | F11: =VLOOKUP(A11,'1-1-2024 Rates-Revenue'!$A$9:$O$599,15,FALSE) -> 12138139 | G11: =SUM(F11/$F$7)*50000000 -> 81406.148 | H11: =IF(E11=1,F11*0,(IF(C11=1,F11*3)+IF(C11=2,F11*2.25)+IF(C11=3,F11*1.5)+IF(C11=4,F11*0)+IF(C11=5,F11*0))) -> 18207209 | I11: =SUM(H11/$H$7)*50000000 -> 113864.64 | J11: =ROUND(SUM(I11-G11),2) -> 32458.49
A12: 0302303N | B12: Absolut Center for Nursing and Rehabilitation at Endicott, LLC | C12: 4 | D12: 47644 | E12: 0 | F12: =VLOOKUP(A12,'1-1-2024 Rates-Revenue'!$A$9:$O$599,15,FALSE) -> 10912685 | G12: =SUM(F12/$F$7)*50000000 -> 73187.467 | H12: =IF(E12=1,F12*0,(IF(C12=1,F12*3)+IF(C12=2,F12*2.25)+IF(C12=3,F12*1.5)+IF(C12=4,F12*0)+IF(C12=5,F12*0))) -> 0 | I12: =SUM(H12/$H$7)*50000000 -> 0 | J12: =ROUND(SUM(I12-G12),2) -> -73187.47
A13: 3158302N | B13: Absolut Center for Nursing and Rehabilitation at Gasport, LLC | C13: 4 | D13: 21992 | E13: 0 | F13: =VLOOKUP(A13,'1-1-2024 Rates-Revenue'!$A$9:$O$599,15,FALSE) -> 5156244.3 | G13: =SUM(F13/$F$7)*50000000 -> 34581.082 | H13: =IF(E13=1,F13*0,(IF(C13=1,F13*3)+IF(C13=2,F13*2.25)+IF(C13=3,F13*1.5)+IF(C13=4,F13*0)+IF(C13=5,F13*0))) -> 0 | I13: =SUM(H13/$H$7)*50000000 -> 0 | J13: =ROUND(SUM(I13-G13),2) -> -34581.08
A14: 5026301N | B14: Absolut Center for Nursing and Rehabilitation at Three Rivers, LLC | C14: 3 | D14: 29996 | E14: 0 | F14: =VLOOKUP(A14,'1-1-2024 Rates-Revenue'!$A$9:$O$599,15,FALSE) -> 6933575.4 | G14: =SUM(F14/$F$7)*50000000 -> 46501.005 | H14: =IF(E14=1,F14*0,(IF(C14=1,F14*3)+IF(C14=2,F14*2.25)+IF(C14=3,F14*1.5)+IF(C14=4,F14*0)+IF(C14=5,F14*0))) -> 10400363 | I14: =SUM(H14/$H$7)*50000000 -> 65042.019 | J14: =ROUND(SUM(I14-G14),2) -> 18541.01
A15: 0675302N | B15: Absolut Center for Nursing and Rehabilitation at Westfield, LLC | C15: 2 | D15: 31338 | E15: 0 | F15: =VLOOKUP(A15,'1-1-2024 Rates-Revenue'!$A$9:$O$599,15,FALSE) -> 7149781.7 | G15: =SUM(F15/$F$7)*50000000 -> 47951.023 | H15: =IF(E15=1,F15*0,(IF(C15=1,F15*3)+IF(C15=2,F15*2.25)+IF(C15=3,F15*1.5)+IF(C15=4,F15*0)+IF(C15=5,F15*0))) -> 16087009 | I15: =SUM(H15/$H$7)*50000000 -> 100605.29 | J15: =ROUND(SUM(I15-G15),2) -> 52654.26
A16: 5155301N | B16: Acadia Center for Nursing and Rehabilitation | C16: 2 | D16: 26607 | E16: 0 | F16: =VLOOKUP(A16,'1-1-2024 Rates-Revenue'!$A$9:$O$599,15,FALSE) -> 6773467.7 | G16: =SUM(F16/$F$7)*50000000 -> 45427.22 | H16: =IF(E16=1,F16*0,(IF(C16=1,F16*3)+IF(C16=2,F16*2.25)+IF(C16=3,F16*1.5)+IF(C16=4,F16*0)+IF(C16=5,F16*0))) -> 15240302 | I16: =SUM(H16/$H$7)*50000000 -> 95310.137 | J16: =ROUND(SUM(I16-G16),2) -> 49882.92
A17: 5220303N | B17: Achieve Rehab and Nursing Facility | C17: 3 | D17: 29450 | E17: 0 | F17: =VLOOKUP(A17,'1-1-2024 Rates-Revenue'!$A$9:$O$599,15,FALSE) -> 8412392.5 | G17: =SUM(F17/$F$7)*50000000 -> 56418.901 | H17: =IF(E17=1,F17*0,(IF(C17=1,F17*3)+IF(C17=2,F17*2.25)+IF(C17=3,F17*1.5)+IF(C17=4,F17*0)+IF(C17=5,F17*0))) -> 12618589 | I17: =SUM(H17/$H$7)*50000000 -> 78914.407 | J17: =ROUND(SUM(I17-G17),2) -> 22495.51
A18: 5907318N | B18: Adira at Riverside Rehabilitation and Nursing | C18: 2 | D18: 20828 | E18: 0 | F18: =VLOOKUP(A18,'1-1-2024 Rates-Revenue'!$A$9:$O$599,15,FALSE) -> 9612992.6 | G18: =SUM(F18/$F$7)*50000000 -> 64470.896 | H18: =IF(E18=1,F18*0,(IF(C18=1,F18*3)+IF(C18=2,F18*2.25)+IF(C18=3,F18*1.5)+IF(C18=4,F18*0)+IF(C18=5,F18*0))) -> 21629233 | I18: =SUM(H18/$H$7)*50000000 -> 135265.37 | J18: =ROUND(SUM(I18-G18),2) -> 70794.48
A19: 5154323N | B19: Affinity Skilled Living and Rehabilitation Center | C19: 2 | D19: 61414 | E19: 0 | F19: =VLOOKUP(A19,'1-1-2024 Rates-Revenue'!$A$9:$O$599,15,FALSE) -> 22600732 | G19: =SUM(F19/$F$7)*50000000 -> 151575.01 | H19: =IF(E19=1,F19*0,(IF(C19=1,F19*3)+IF(C19=2,F19*2.25)+IF(C19=3,F19*1.5)+IF(C19=4,F19*0)+IF(C19=5,F19*0))) -> 50851646 | I19: =SUM(H19/$H$7)*50000000 -> 318017.14 | J19: =ROUND(SUM(I19-G19),2) -> 166442.13
... A576: 5951301N | B576: Yorktown Rehabilitation & Nursing Center | C576: 3 | D576: 26755 | E576: 0 | F576: =VLOOKUP(A576,'1-1-2024 Rates-Revenue'!$A$9:$O$599,15,FALSE) -> 8101479.2 | G576: =SUM(F576/$F$7)*50000000 -> 54333.717 | H576: =IF(E576=1,F576*0,(IF(C576=1,F576*3)+IF(C576=2,F576*2.25)+IF(C576=3,F576*1.5)+IF(C576=4,F576*0)+IF(C576=5,F576*0))) -> 12152219 | I576: =SUM(H576/$H$7)*50000000 -> 75997.812 | J576: =ROUND(SUM(I576-G576),2) -> 21664.1

Sheet 1-1-2024 Rates-Revenue
A1: 45671
A2: New York State Department of Health
A3: 2024 Revenue - Days
C6: Fee For Service | F6: Fee For Service | I6: Managed Care | L6: Managed Care | O6: =SUM(O9:O604) -> 7.546088e+09
C7: Ineligible and Part B | F7: Part B and Part B&D | I7: Ineligible and Part B | L7: Part B and Part B&D
C8: Days | D8: Rate | E8: Revenue | F8: Days | G8: Rate | H8: Revenue | I8: Days | J8: Rate | K8: Revenue | L8: Days | M8: Rate | N8: Revenue | O8: Total Revenue
A9: 2950302N | B9: A Holly Patterson Extended Care Facility | C9: 37089 | D9: 319.47 | E9: =C9*D9 -> 11848823 | F9: 82316 | G9: 317.14 | H9: =F9*G9 -> 26105696 | I9: 10094 | J9: 319.47 | K9: =I9*J9 -> 3224730.2 | L9: 22402 | M9: 317.14 | N9: =L9*M9 -> 7104570.3 | O9: =E9+H9+K9+N9 -> 48283820
A10: 2725301N | B10: Aaron Manor Rehabilitation and Nursing Center | C10: 586 | D10: 249.62 | E10: =C10*D10 -> 146277.32 | F10: 29511 | G10: 247.68 | H10: =F10*G10 -> 7309284.5 | I10: 28 | J10: 249.62 | K10: =I10*J10 -> 6989.36 | L10: 1417 | M10: 247.68 | N10: =L10*M10 -> 350962.56 | O10: =E10+H10+K10+N10 -> 7813513.7
A11: 0420302N | B11: Absolut Center for Nursing and Rehabilitation at Allega | C11: 0 | D11: 213.86 | E11: =C11*D11 -> 0 | F11: 7617 | G11: 212.01 | H11: =F11*G11 -> 1614880.2 | I11: 0 | J11: 213.86 | K11: =I11*J11 -> 0 | L11: 339 | M11: 212.01 | N11: =L11*M11 -> 71871.39 | O11: =E11+H11+K11+N11 -> 1686751.6
A12: 1422303N | B12: Absolut Center for Nursing and Rehabilitation at Auror | C12: 225 | D12: 246.73 | E12: =C12*D12 -> 55514.25 | F12: 43928 | G12: 244.74 | H12: =F12*G12 -> 10750939 | I12: 28 | J12: 246.73 | K12: =I12*J12 -> 6908.44 | L12: 5413 | M12: 244.74 | N12: =L12*M12 -> 1324777.6 | O12: =E12+H12+K12+N12 -> 12138139
A13: 0302303N | B13: Absolut Center for Nursing and Rehabilitation at Endic | C13: 1535 | D13: 230.87 | E13: =C13*D13 -> 354385.45 | F13: 42182 | G13: 228.98 | H13: =F13*G13 -> 9658834.4 | I13: 138 | J13: 230.87 | K13: =I13*J13 -> 31860.06 | L13: 3789 | M13: 228.98 | N13: =L13*M13 -> 867605.22 | O13: =E13+H13+K13+N13 -> 10912685
A14: 3158302N | B14: Absolut Center for Nursing and Rehabilitation at Gaspo | C14: 0 | D14: 236.57 | E14: =C14*D14 -> 0 | F14: 18497 | G14: 234.46 | H14: =F14*G14 -> 4336806.6 | I14: 0 | J14: 236.57 | K14: =I14*J14 -> 0 | L14: 3495 | M14: 234.46 | N14: =L14*M14 -> 819437.7 | O14: =E14+H14+K14+N14 -> 5156244.3
A15: 5026301N | B15: Absolut Center for Nursing and Rehabilitation at Three | C15: 0 | D15: 233.16 | E15: =C15*D15 -> 0 | F15: 28104 | G15: 231.15 | H15: =F15*G15 -> 6496239.6 | I15: 0 | J15: 233.16 | K15: =I15*J15 -> 0 | L15: 1892 | M15: 231.15 | N15: =L15*M15 -> 437335.8 | O15: =E15+H15+K15+N15 -> 6933575.4
A16: 0675302N | B16: Absolut Center for Nursing and Rehabilitation at Westfi | C16: 153 | D16: 230.13 | E16: =C16*D16 -> 35209.89 | F16: 28751 | G16: 228.14 | H16: =F16*G16 -> 6559253.1 | I16: 13 | J16: 230.13 | K16: =I16*J16 -> 2991.69 | L16: 2421 | M16: 228.14 | N16: =L16*M16 -> 552326.94 | O16: =E16+H16+K16+N16 -> 7149781.7
A17: 5155301N | B17: Acadia Center for Nursing and Rehabilitation | C17: 376 | D17: 256.88 | E17: =C17*D17 -> 96586.88 | F17: 25026 | G17: 254.54 | H17: =F17*G17 -> 6370118 | I17: 18 | J17: 256.88 | K17: =I17*J17 -> 4623.84 | L17: 1187 | M17: 254.54 | N17: =L17*M17 -> 302138.98 | O17: =E17+H17+K17+N17 -> 6773467.7
A18: 5220303N | B18: Achieve Rehab and Nursing Facility | C18: 0 | D18: 288.18 | E18: =C18*D18 -> 0 | F18: 25290 | G18: 285.65 | H18: =F18*G18 -> 7224088.5 | I18: 0 | J18: 288.18 | K18: =I18*J18 -> 0 | L18: 4160 | M18: 285.65 | N18: =L18*M18 -> 1188304 | O18: =E18+H18+K18+N18 -> 8412392.5
A19: 5907318N | B19: Adira at Riverside Rehabilitation and Nursing | C19: 330 | D19: 466.34 | E19: =C19*D19 -> 153892.2 | F19: 17245 | G19: 461.45 | H19: =F19*G19 -> 7957705.2 | I19: 61 | J19: 466.34 | K19: =I19*J19 -> 28446.74 | L19: 3192 | M19: 461.45 | N19: =L19*M19 -> 1472948.4 | O19: =E19+H19+K19+N19 -> 9612992.6
A20: 5154323N | B20: Affinity Skilled Living and Rehabilitation Center | C20: 2319 | D20: 371.38 | E20: =C20*D20 -> 861230.22 | F20: 47088 | G20: 367.84 | H20: =F20*G20 -> 17320850 | I20: 564 | J20: 371.38 | K20: =I20*J20 -> 209458.32 | L20: 11443 | M20: 367.84 | N20: =L20*M20 -> 4209193.1 | O20: =E20+H20+K20+N20 -> 22600732
... A599: 5951301N | B599: Yorktown Rehabilitation & Nursing Center | C599: 1130 | D599: 305.29 | E599: =C599*D599 -> 344977.7 | F599: 25006 | G599: 302.69 | H599: =F599*G599 -> 7569066.1 | I599: 27 | J599: 305.29 | K599: =I599*J599 -> 8242.83 | L599: 592 | M599: 302.69 | N599: =L599*M599 -> 179192.48 | O599: =E599+H599+K599+N599 -> 8101479.2
