Workbook

Sheet Title Page
A9: Request for Proposals
A11: ​​RFP #C043776
A13: Converged Eligibility and Enrollment (E&E) System and Appeals Management System (AMS)
A15: Attachment B
A16: Cost Proposal Form

Sheet TOC
A1: Table of Contents
A2: Bidder Name | C2: =Signature!C11 -> 0
A4: ID | B4: Worksheet Title | C4: Description
A5: TOC | B5: Table of Contents | C5: Table of Contents for Attachment B - Cost Proposal Form.
A6: Summary | B6: Summary | C6: Worksheet provides a summary of all of Bidder's proposed costs.
A7: E&E-PM | B7: Project Management (PM) | C7: Worksheet for PM deliverables, including the cost for creating and updating the deliverables.
A8: E&E-TI | B8: Transition-In | C8: Worksheet for the Transition-In activities and deliverables
A9: E&E-MO | B9: Maintenance and Operations (M&O) | C9: Worksheet for M&O costs for each Converged E&E System and AMS component.
A10: E&E-SI | B10: Converged E&E System Implementation | C10: Worksheet for the design, development, and implementation (DDI) of the Converged E&E System.
A11: E&E-TRN | B11: Training | C11: Worksheet for costs associated with training.
A12: E&E-OCM | B12: Organizational Change Management (OCM) | C12: Worksheet for costs associated with OCM.
A13: E&E-CBT | B13: Capacity-Based Teams (CBT) | C13: Worksheet for costs associated with each CBT.
A14: E&E-MAJ | B14: Major System Updates | C14: Worksheet for hourly rates per roles that will support the major system updates. The annual major system update budget is equal to ten percent (10%) of the base Contract not including Enhancements.
A15: E&E-EN | B15: Enhancements | C15: Worksheet for hourly rates per role to be used for enhancements. The annual enhancement budget is equal to ten percent (10%) of the base Contract value.
... A21: Signature | B21: Cost Proposal Signature | C21: Worksheet for the Bidder's Authorized Signature.

Sheet Summary
A1: Summary
A2: Bidder Name | C2: =Signature!C11 -> 0
A3: Instructions, Assumptions, and Notes
A4: Assumptions - Unspent funds from prior Contract years may be moved forward to subsequent Contract years and may be reallocated to another pricing element. Notes 1. The budget for major system upgrades will be calculated as ten percent (10%) of the base Contract value excluding enhancements. 2. The budget for enhancements will be calculated as ten percent (10%) of the base Contract value.
A6: ID | B6: Pricing Element | D6: Year 1 | E6: Year 2 | F6: Year 3 | G6: Year 4 | H6: Year 5 | I6: Year 6 | J6: Year 7 | K6: Total
A7: E&E-PM | B7: Project Management | D7: ='E&E-PM'!E31 -> 0 | E7: ='E&E-PM'!G31 -> 0 | F7: ='E&E-PM'!I31 -> 0 | G7: ='E&E-PM'!K31 -> 0 | H7: ='E&E-PM'!M31 -> 0 | I7: ='E&E-PM'!O31 -> 0 | J7: ='E&E-PM'!Q31 -> 0 | K7: =SUM(D7:J7) -> 0 | L7: =IF(K7/K21>0.2,"THE TOTAL PM COST MUST NOT EXCEED TWENTY PERCENT (20%) OF THE TOTAL CONTRACT VALUE", "")
A8: E&E-TI | B8: Transition-In | D8: ='E&E-TI'!D27 -> 0 | K8: =SUM(D8:J8) -> 0
A9: E&E-MO | B9: Maintenance and Operations (M&O) | D9: ='E&E-MO'!D50 -> 0 | E9: ='E&E-MO'!F50 -> 0 | F9: ='E&E-MO'!H50 -> 0 | G9: ='E&E-MO'!J50 -> 0 | H9: ='E&E-MO'!L50 -> 0 | I9: ='E&E-MO'!N50 -> 0 | J9: ='E&E-MO'!P50 -> 0 | K9: =SUM(D9:J9) -> 0
A10: E&E-SI | B10: Converged E&E System Implementation | D10: ='E&E-SI'!$E$46/2 -> 0 | E10: ='E&E-SI'!$E$46/2 -> 0 | K10: =SUM(D10:J10) -> 0
A11: E&E-TRN | B11: Training | D11: ='E&E-TRN'!E29 -> 0 | E11: ='E&E-TRN'!H29 -> 0 | F11: ='E&E-TRN'!K29 -> 0 | G11: ='E&E-TRN'!N29 -> 0 | H11: ='E&E-TRN'!Q29 -> 0 | I11: ='E&E-TRN'!T29 -> 0 | J11: ='E&E-TRN'!W29 -> 0 | K11: =SUM(D11:J11) -> 0
A12: E&E-OCM | B12: Organizational Change Management (OCM) | D12: ='E&E-OCM'!D15 -> 0 | E12: ='E&E-OCM'!E15 -> 0 | F12: ='E&E-OCM'!F15 -> 0 | K12: =SUM(D12:J12) -> 0
A13: E&E-CBT | B13: Capacity-Based Teams (CBTs) | D13: ='E&E-CBT'!$D$15 -> 0 | E13: ='E&E-CBT'!$F$15 -> 0 | F13: ='E&E-CBT'!$H$15 -> 0 | G13: ='E&E-CBT'!$J$15 -> 0 | H13: ='E&E-CBT'!$L$15 -> 0 | I13: ='E&E-CBT'!$N$15 -> 0 | J13: ='E&E-CBT'!$P$15 -> 0 | K13: =SUM(D13:J13) -> 0
A14: E&E-MAJ | B14: Major System Updates1 | D14: ='E&E-MAJ'!D$48 -> 0 | E14: ='E&E-MAJ'!F$48 -> 0 | F14: ='E&E-MAJ'!H$48 -> 0 | G14: ='E&E-MAJ'!J$48 -> 0 | H14: ='E&E-MAJ'!L$48 -> 0 | I14: ='E&E-MAJ'!N$48 -> 0 | J14: ='E&E-MAJ'!P$48 -> 0 | K14: =SUM(D14:J14) -> 0
A15: E&E-EN | B15: Enhancements2 | D15: ='E&E-EN'!D$48 -> 0 | E15: ='E&E-EN'!F$48 -> 0 | F15: ='E&E-EN'!H$48 -> 0 | G15: ='E&E-EN'!J$48 -> 0 | H15: ='E&E-EN'!L$48 -> 0 | I15: ='E&E-EN'!N$48 -> 0 | J15: ='E&E-EN'!P$48 -> 0 | K15: =SUM(D15:J15) -> 0
A16: E&E KPI OKR | B16: Key Performance Indicators (KPIs) and Objectives and Key Results (OKRs) | D16: ='E&E-KPI OKR'!E30 -> 0 | E16: ='E&E-KPI OKR'!H30 -> 0 | F16: ='E&E-KPI OKR'!K30 -> 0 | G16: ='E&E-KPI OKR'!N30 -> 0 | H16: ='E&E-KPI OKR'!Q30 -> 0 | I16: ='E&E-KPI OKR'!T30 -> 0 | J16: ='E&E-KPI OKR'!W30 -> 0 | K16: =SUM(D16:J16) -> 0
A17: E&E-TO | B17: Transition-Out | J17: ='E&E-TO'!$C$6 -> 0 | K17: =SUM(D17:J17) -> 0
A18: E&E-OF | B18: Office Facility | D18: ='E&E-OF'!E10+'E&E-OF'!E11+'E&E-OF'!E12+'E&E-OF'!E14 -> 0 | E18: ='E&E-OF'!E15 -> 0 | F18: ='E&E-OF'!E16 -> 0 | G18: ='E&E-OF'!E17 -> 0 | H18: ='E&E-OF'!E18 -> 0 | I18: ='E&E-OF'!E19 -> 0 | J18: ='E&E-OF'!E20 -> 0 | K18: =SUM(D18:J18) -> 0
A19: E&E-IT | B19: Information Technology | D19: ='E&E-IT'!D30 -> 17300000 | E19: ='E&E-IT'!E30 -> 20200000 | F19: ='E&E-IT'!F30 -> 34000000 | G19: ='E&E-IT'!G30 -> 35000000 | H19: ='E&E-IT'!H30 -> 36000000 | I19: ='E&E-IT'!I30 -> 37000000 | J19: ='E&E-IT'!J30 -> 38000000 | K19: =SUM(D19:J19) -> 217500000
A20: E&E-SP | B20: Security & Privacy | D20: ='E&E-SP'!F23 -> 0 | E20: ='E&E-SP'!H23 -> 0 | F20: ='E&E-SP'!J23 -> 0 | G20: ='E&E-SP'!L23 -> 0 | H20: ='E&E-SP'!N23 -> 0 | I20: ='E&E-SP'!P23 -> 0 | J20: ='E&E-SP'!R23 -> 0 | K20: =SUM(D20:J20) -> 0
B21: Total: | D21: =SUM(D7:D20) -> 17300000 | E21: =SUM(E7:E20) -> 20200000 | F21: =SUM(F7:F20) -> 34000000 | G21: =SUM(G7:G20) -> 35000000 | H21: =SUM(H7:H20) -> 36000000 | I21: =SUM(I7:I20) -> 37000000 | J21: =SUM(J7:J20) -> 38000000 | K21: =SUM(K7:K20) -> 217500000

Sheet 2. Labor Rates
A1: =TOC!#REF! -> #REF!
A2: Rates
A3: Bidder Name
A5: Implementation Hourly Rates | D5: Population Migration Rate Card (Option 2)
A6: Staff Position | B6: Populations Migration Rates (Option 1) | D6: Year 1 | E6: Year 2 | F6: Year 3 | G6: Year 4 | H6: Year 5
A7: Key Positions
A8: Project Executive | B8: 125 | D8: 110 | E8: 120 | F8: 130 | G8: 140 | H8: 150
A9: Project Director | B9: 125 | D9: 110 | E9: 110 | F9: 110 | G9: 110 | H9: 110
A10: PMO Manager / Scrum Lead | B10: 125 | D10: 110 | E10: 110 | F10: 110 | G10: 110 | H10: 110
A11: M&O Manager | B11: 125 | D11: 110 | E11: 110 | F11: 110 | G11: 110 | H11: 110
A12: Application Manager | B12: 125 | D12: 110 | E12: 110 | F12: 110 | G12: 110 | H12: 110
A13: Technical Manager | B13: 125 | D13: 110 | E13: 110 | F13: 110 | G13: 110 | H13: 110
A14: Security Manager | B14: 125 | D14: 110 | E14: 110 | F14: 110 | G14: 110 | H14: 110
A15: Data Manager | B15: 125 | D15: 110 | E15: 110 | F15: 110 | G15: 110 | H15: 110
A16: Testing Manager | B16: 125 | D16: 110 | E16: 110 | F16: 110 | G16: 110 | H16: 110
A17: Functional Manager / Product Manager | B17: 125 | D17: 110 | E17: 110 | F17: 110 | G17: 110 | H17: 110
A18: Non Key Roles
A19: System Architect/Engineer | B19: 100 | D19: 90 | E19: 91 | F19: 92 | G19: 93 | H19: 94
A20: Usability Expert | B20: 100 | D20: 90 | E20: 92 | F20: 93 | G20: 94 | H20: 95
A21: Security Analyst | B21: 100 | D21: 90 | E21: 93 | F21: 94 | G21: 95 | H21: 96
A22: Senior Programmer/Developer | B22: 100 | D22: 90 | E22: 94 | F22: 95 | G22: 96 | H22: 97
A23: Programmer/Developer | B23: 100 | D23: 90 | E23: 95 | F23: 96 | G23: 97 | H23: 98
A24: Senior System Administrator | B24: 100 | D24: 90 | E24: 96 | F24: 97 | G24: 98 | H24: 99
A25: System Administrator | B25: 100 | D25: 90 | E25: 97 | F25: 98 | G25: 99 | H25: 100
A26: Senior Database Administrator | B26: 100 | D26: 90 | E26: 98 | F26: 99 | G26: 100 | H26: 101
A27: Database Administrator | B27: 100 | D27: 90 | E27: 99 | F27: 100 | G27: 101 | H27: 102
A28: Senior Database Analyst | B28: 100 | D28: 90 | E28: 100 | F28: 101 | G28: 102 | H28: 103
A29: Database Analyst | B29: 100 | D29: 90 | E29: 101 | F29: 102 | G29: 103 | H29: 104
A30: Senior System Tester | B30: 100 | D30: 90 | E30: 102 | F30: 103 | G30: 104 | H30: 105
... A43: Release Training Engineer (RTE) | B43: 100 | D43: 90 | E43: 115 | F43: 116 | G43: 117 | H43: 118

Sheet E&E-PM
A1: Project Management
A2: Bidder Name | B2: =Signature!C11 -> 0
A3: Instructions, Assumptions, and Notes
A4: Instructions 1. The Bidder must input values into the yellow cells, including the cost per submission of each listed deliverable. 2. If there is no cost associated with a yellow cell, enter "0" (zero). 3. Cells that are greyed out are not applicable. Assumptions - The Bidder's costs must include the level of effort (i.e., activities and tasks) to create and maintain the listed deliverables. Notes 1. The total PM cost must not exceed twenty percent (20%) of the contract value. 2. In the case that the actual number of submissions of a deliverable differs from the expected number of submissions, the Contractor's payment must depend on the actual number of submissions. 3. Any reference to the Project Management Plan includes the sub-management plans detailed in this RFP and the OHIP Project Management Standard. 4. Refer to the RFP for the timing of initial submissions and updates of deliverables. 5. The fixed deliverable cost is inclusive of all status reports for the month. At the end of the month, the Contractor can invoice for all status reports completed in that period.
A6: Total PM Cost1 | C6: =R31 -> 0
A8: # | B8: Deliverable2 | C8: Frequency 4 | D8: Year 1 Cost per Submission | E8: Year 1 Annual Cost | F8: Year 2 Cost per Submission | G8: Year 2 Annual Cost | H8: Year 3 Cost per Submission | I8: Year 3 Annual Cost | J8: Year 4 Cost per Submission | K8: Year 4 Annual Cost | L8: Year 5 Cost per Submission | M8: Year 5 Annual Cost | N8: Year 6 Cost per Submission | O8: Year 6 Annual Cost | P8: Year 7 Cost per Submission | Q8: Year 7 Annual Cost | R8: Total Cost
A9: Initial Submission
A10: 1 | B10: Engagement Kickoff Meeting/Presentation | C10: One-Time | D10: 0 | E10: =D10 -> 0 | R10: =$E10 -> 0
A11: 2 | B11: Project Roadmap - Initial Submission | C11: One-Time | D11: 0 | E11: =D11 -> 0 | R11: =$E11 -> 0
A12: 3 | B12: Updated Project Management Plan - Initial Submission 3 | C12: One-Time | D12: 0 | E12: =D12 -> 0 | R12: =$E12 -> 0
A13: 4 | B13: Integrated Master Schedule - Initial Submission | C13: One-Time | D13: 0 | E13: =D13 -> 0 | R13: =$E13 -> 0
A14: 5 | B14: Contract Management Plan - Initial Submission | C14: One-Time | D14: 0 | E14: =D14 -> 0 | R14: =$E14 -> 0
A15: 6 | B15: Deliverable Management Plan - Initial Submission | C15: One-Time | D15: 0 | E15: =D15 -> 0 | R15: =$E15 -> 0
A16: 7 | B16: Contract Closeout Plan | C16: One-Time | P16: 0 | Q16: =P16 -> 0 | R16: =$Q16 -> 0
A17: 8 | B17: Contract Closeout Documentation | C17: One-Time | P17: 0 | Q17: =P17 -> 0 | R17: =$Q17 -> 0
A19: Initial Submission Sub-Total | D19: Year 1: | E19: =SUM(E10:E18) -> 0 | F19: Year 2: | G19: =SUM(G10:G18) -> 0 | H19: Year 3: | I19: =SUM(I10:I18) -> 0 | J19: Year 4: | K19: =SUM(K10:K18) -> 0 | L19: Year 5: | M19: =SUM(M10:M18) -> 0 | N19: Year 6: | O19: =SUM(O10:O18) -> 0 | P19: Year 7: | Q19: =SUM(Q10:Q18) -> 0 | R19: =SUM($R$10:$R$18) -> 0
A21: # | B21: Deliverable2 | C21: Frequency 4 | D21: Monthly Cost | E21: Year 1 Annual Cost | F21: Monthly Cost | G21: Year 2 Annual Cost | H21: Monthly Cost | I21: Year 3 Annual Cost | J21: Monthly Cost | K21: Year 4 Annual Cost | L21: Monthly Cost | M21: Year 5 Annual Cost | N21: Monthly Cost | O21: Year 6 Annual Cost | R21: Total Cost
A22: Reoccurring Submissions
A23: 9 | B23: Project Roadmap - Quarterly Updates | C23: Monthly | D23: 0 | E23: =D23*12 -> 0 | F23: 0 | G23: =F23*12 -> 0 | H23: 0 | I23: =H23*12 -> 0 | J23: 0 | K23: =J23*12 -> 0 | L23: 0 | M23: =L23*12 -> 0 | N23: 0 | O23: =N23*12 -> 0 | P23: 0 | Q23: =P23*12 -> 0 | R23: =$E$23+$G$23+$I$23+$K$23+$M$23+$O$23+$S$23+Q23 -> 0
A24: 10 | B24: Project Management Plan3 - Quarterly Updates | F24: 0 | H24: 0 | J24: 0 | L24: 0 | N24: 0 | P24: 0
A25: 11 | B25: Integrated Master Schedule - Monthly Updates
A26: 12 | B26: Contract Management Plan - Quarterly Submission
A27: 13 | B27: Deliverable Management Plan - Quarterly Submission
A28: 14 | B28: Status Reporting (i.e., Weekly, Monthly)5 | F28: 0 | H28: 0 | J28: 0 | L28: 0 | N28: 0 | P28: 0
A29: Reoccurring Submissions Sub-Total | D29: Year 1: | E29: =SUM(E23) -> 0 | F29: Year 2: | G29: =SUM(G23) -> 0 | H29: Year 3: | I29: =SUM(I23) -> 0 | J29: Year 4: | K29: =SUM(K23) -> 0 | L29: Year 5: | M29: =SUM(M23) -> 0 | N29: Year 6: | O29: =SUM(O23) -> 0 | P29: Year 7: | Q29: =SUM(Q23) -> 0 | R29: =SUM($R$23) -> 0
A31: Project Management Deliverable Total | D31: Year 1: | E31: =E19+E29 -> 0 | F31: Year 2: | G31: =G19+G29 -> 0 | H31: Year 3: | I31: =I19+I29 -> 0 | J31: Year 4: | K31: =K19+K29 -> 0 | L31: Year 5: | M31: =M19+M29 -> 0 | N31: Year 6: | O31: =O19+O29 -> 0 | P31: Year 7: | Q31: =Q19+Q29 -> 0 | R31: =$R$19+$R$29 -> 0

Sheet E&E-TI
A1: Transition-In
A2: Bidder Name | B2: =Signature!C11 -> 0
A3: Instructions, Assumptions, and Notes
A4: Instructions 1. The Bidder must input values into the yellow cells, including the cost for the transition in of each Transition-In component. 2. If there is no cost associated with a yellow cell, enter "0" (zero). Assumptions - The Bidder's costs must include the level of effort (i.e., activities and tasks) to transition in the specified Transition-In component. Notes N/A
A6: Total Transition-In Cost | C6: =D27 -> 0
A8: # | B8: Deliverables | C8: Cost
A9: 1 | B9: Transition-In Knowledge Transfer Plan | C9: 0
A10: 2 | B10: Transition-In Management Plan (TIMP)
A11: 3 | B11: Transition-In Schedule
A12: 4 | B12: Transition-In Weekly Status Reports
A13: 5 | B13: Transition-In System Architecture Assessment Report
A14: 6 | B14: System Architecture Evolution Roadmap
A15: 7 | B15: Transition-In Project Management (PM) Plan
A16: 8 | B16: Transition-In Design, Development, and Implementation (DDI) Plan
A17: 9 | B17: Transition-In M&O Plan
A18: 10 | B18: Transition-In Readiness Reviews
A19: 11 | B19: Transition-In Plan Execution
A21: # | B21: Deliverable Payment Milestones | C21: Payment Percentage | D21: Payment
B22: Payments will be made when the following deliverables are approved by the Department.
A23: 1 | B23: TIMP Transition-In Schedule Transition-In Status Reports during initiation | C23: 0.05 | D23: =C9*C23 -> 0
A24: 2 | B24: Transition-In Knowledge Transfer Plan Transition-In System Architecture Assessment Report Transition-In PM Plan Transition-In M&O Plan Transition-In DDI Plan Transition-In Weekly Meeting Agendas/Minutes and Status Reports TIMP and Transition-In Schedule updates | C24: 0.2 | D24: =C9*C24 -> 0
A25: 3 | B25: Transition-In PM, M&O, and DDI Plan Execution System Architecture Evolution Roadmap Transition-In Weekly Status Reports TIMP and Transition-In Schedule updates | C25: 0.35 | D25: =C9*C25 -> 0
A26: 4 | B26: Transition-In Readiness Reviews All Transition-In SLAs are met by the Contractor. Transition-In Weekly Status Reports TIMP and Transition-In Schedule updates | C26: 0.4 | D26: =C9*C26 -> 0
A27: Total Payment for Transition-In | D27: =SUM(D23:D26) -> 0

Sheet E&E-MO
A1: Maintenance and Operations (M&O)
A2: Bidder Name | B2: =Signature!C11 -> 0
A3: Instructions, Assumptions, and Notes
A4: Instructions 1. The Bidder must input values into the yellow cells, including the monthly cost for the ongoing M&O of each Converged E&E System and AMS component. 2. If there is no cost associated with a yellow cell, enter "0" (zero). Assumptions - The Bidder's costs must include all costs related to the operation of the Converged E&E System and AMS (i.e., activities, tasks, and necessary licensing for hosting on AWS) and the required M&O deliverables. The cost must be inlcusive of AWS hosting and maintenance expenses. Notes 1. The M&O period for Transition-In components must begin after the Department has approved the Transition-In deliverable(s), the component operates in production, and the component requires Converged E&E System and AMS support. The M&O period for a Converged E&E System and AMS component must begin only after the component operates in production and the Department has approved all implementation milestones. 2. Costs must include the level of effort needed to complete the initial submission and updates of the M&O deliverables and perform all required M&O tasks/activities. 3. The Contractor is not expected to begin M&O until Month 10 of Year 1 of the Contract term following Transition-In.
A6: Total M&O Cost | C6: =Q50 -> 0
B8: Component | C8: Year 1 | E8: Year 2 | G8: Year 3 | I8: Year 4 | K8: Year 5 | M8: Year 6 | O8: Year 7 | Q8: Total Cost
C9: Monthly Cost3 | D9: Annual Cost | E9: Monthly Cost | F9: Annual Cost | G9: Monthly Cost | H9: Annual Cost | I9: Monthly Cost | J9: Annual Cost | K9: Monthly Cost | L9: Annual Cost | M9: Monthly Cost | N9: Annual Cost | O9: Monthly Cost | P9: Annual Cost
A10: AMS | B10: AMS | C10: 0 | D10: =C10*3 -> 0 | E10: 0 | F10: =E10*12 -> 0 | G10: 0 | H10: =G10*12 -> 0 | I10: 0 | J10: =I10*12 -> 0 | K10: 0 | L10: =K10*12 -> 0 | M10: 0 | N10: =M10*12 -> 0 | O10: 0 | P10: =O10*12 -> 0 | Q10: =$D10+$F10+$H10+$J10+$L10+$N10+$P10 -> 0
A11: Converged E&E System | B11: API Gateway | C11: 0 | D11: =C11*3 -> 0 | E11: 0 | F11: =E11*12 -> 0 | G11: 0 | H11: =G11*12 -> 0 | I11: 0 | J11: =I11*12 -> 0 | K11: 0 | L11: =K11*12 -> 0 | M11: 0 | N11: =M11*12 -> 0 | O11: 0 | P11: =O11*12 -> 0 | Q11: =$D11+$F11+$H11+$J11+$L11+$N11+$P11 -> 0
B12: Appeals​ | C12: 0 | D12: =C12*3 -> 0 | E12: 0 | F12: =E12*12 -> 0 | G12: 0 | H12: =G12*12 -> 0 | I12: 0 | J12: =I12*12 -> 0 | K12: 0 | L12: =K12*12 -> 0 | M12: 0 | N12: =M12*12 -> 0 | O12: 0 | P12: =O12*12 -> 0 | Q12: =$D12+$F12+$H12+$J12+$L12+$N12+$P12 -> 0
B13: Assistor Portal​ | C13: 0 | D13: =C13*3 -> 0 | E13: 0 | F13: =E13*12 -> 0 | G13: 0 | H13: =G13*12 -> 0 | I13: 0 | J13: =I13*12 -> 0 | K13: 0 | L13: =K13*12 -> 0 | M13: 0 | N13: =M13*12 -> 0 | O13: 0 | P13: =O13*12 -> 0 | Q13: =$D13+$F13+$H13+$J13+$L13+$N13+$P13 -> 0
B14: Business Rules Engine | C14: 0 | D14: =C14*3 -> 0 | E14: 0 | F14: =E14*12 -> 0 | G14: 0 | H14: =G14*12 -> 0 | I14: 0 | J14: =I14*12 -> 0 | K14: 0 | L14: =K14*12 -> 0 | M14: 0 | N14: =M14*12 -> 0 | O14: 0 | P14: =O14*12 -> 0 | Q14: =$D14+$F14+$H14+$J14+$L14+$N14+$P14 -> 0
B15: Chat Bot | C15: 0 | D15: =C15*3 -> 0 | E15: 0 | F15: =E15*12 -> 0 | G15: 0 | H15: =G15*12 -> 0 | I15: 0 | J15: =I15*12 -> 0 | K15: 0 | L15: =K15*12 -> 0 | M15: 0 | N15: =M15*12 -> 0 | O15: 0 | P15: =O15*12 -> 0 | Q15: =$D15+$F15+$H15+$J15+$L15+$N15+$P15 -> 0
B16: Core Framework | C16: 0 | D16: =C16*3 -> 0 | E16: 0 | F16: =E16*12 -> 0 | G16: 0 | H16: =G16*12 -> 0 | I16: 0 | J16: =I16*12 -> 0 | K16: 0 | L16: =K16*12 -> 0 | M16: 0 | N16: =M16*12 -> 0 | O16: 0 | P16: =O16*12 -> 0 | Q16: =$D16+$F16+$H16+$J16+$L16+$N16+$P16 -> 0
B17: Data Collection​ | C17: 0 | D17: =C17*3 -> 0 | E17: 0 | F17: =E17*12 -> 0 | G17: 0 | H17: =G17*12 -> 0 | I17: 0 | J17: =I17*12 -> 0 | K17: 0 | L17: =K17*12 -> 0 | M17: 0 | N17: =M17*12 -> 0 | O17: 0 | P17: =O17*12 -> 0 | Q17: =$D17+$F17+$H17+$J17+$L17+$N17+$P17 -> 0
B18: Data Fabric | C18: 0 | D18: =C18*3 -> 0 | E18: 0 | F18: =E18*12 -> 0 | G18: 0 | H18: =G18*12 -> 0 | I18: 0 | J18: =I18*12 -> 0 | K18: 0 | L18: =K18*12 -> 0 | M18: 0 | N18: =M18*12 -> 0 | O18: 0 | P18: =O18*12 -> 0 | Q18: =$D18+$F18+$H18+$J18+$L18+$N18+$P18 -> 0
B19: DevSecOps | C19: 0 | D19: =C19*3 -> 0 | E19: 0 | F19: =E19*12 -> 0 | G19: 0 | H19: =G19*12 -> 0 | I19: 0 | J19: =I19*12 -> 0 | K19: 0 | L19: =K19*12 -> 0 | M19: 0 | N19: =M19*12 -> 0 | O19: 0 | P19: =O19*12 -> 0 | Q19: =$D19+$F19+$H19+$J19+$L19+$N19+$P19 -> 0
B20: Document Management Service | C20: 0 | D20: =C20*3 -> 0 | E20: 0 | F20: =E20*12 -> 0 | G20: 0 | H20: =G20*12 -> 0 | I20: 0 | J20: =I20*12 -> 0 | K20: 0 | L20: =K20*12 -> 0 | M20: 0 | N20: =M20*12 -> 0 | O20: 0 | P20: =O20*12 -> 0 | Q20: =$D20+$F20+$H20+$J20+$L20+$N20+$P20 -> 0
B21: Document Management​ | C21: 0 | D21: =C21*3 -> 0 | E21: 0 | F21: =E21*12 -> 0 | G21: 0 | H21: =G21*12 -> 0 | I21: 0 | J21: =I21*12 -> 0 | K21: 0 | L21: =K21*12 -> 0 | M21: 0 | N21: =M21*12 -> 0 | O21: 0 | P21: =O21*12 -> 0 | Q21: =$D21+$F21+$H21+$J21+$L21+$N21+$P21 -> 0
B22: Eligibility​ | C22: 0 | D22: =C22*3 -> 0 | E22: 0 | F22: =E22*12 -> 0 | G22: 0 | H22: =G22*12 -> 0 | I22: 0 | J22: =I22*12 -> 0 | K22: 0 | L22: =K22*12 -> 0 | M22: 0 | N22: =M22*12 -> 0 | O22: 0 | P22: =O22*12 -> 0 | Q22: =$D22+$F22+$H22+$J22+$L22+$N22+$P22 -> 0
B23: Employer Portal | C23: 0 | D23: =C23*3 -> 0 | E23: 0 | F23: =E23*12 -> 0 | G23: 0 | H23: =G23*12 -> 0 | I23: 0 | J23: =I23*12 -> 0 | K23: 0 | L23: =K23*12 -> 0 | M23: 0 | N23: =M23*12 -> 0 | O23: 0 | P23: =O23*12 -> 0 | Q23: =$D23+$F23+$H23+$J23+$L23+$N23+$P23 -> 0
... B49: Worker Portal | C49: 0 | D49: =C49*3 -> 0 | E49: 0 | F49: =E49*12 -> 0 | G49: 0 | H49: =G49*12 -> 0 | I49: 0 | J49: =I49*12 -> 0 | K49: 0 | L49: =K49*12 -> 0 | M49: 0 | N49: =M49*12 -> 0 | O49: 0 | P49: =O49*12 -> 0 | Q49: =$D49+$F49+$H49+$J49+$L49+$N49+$P49 -> 0
A50: Total | D50: =SUM(D10:D49) -> 0 | F50: =SUM(F10:F49) -> 0 | H50: =SUM(H10:H49) -> 0 | J50: =SUM(J10:J49) -> 0 | L50: =SUM(L10:L49) -> 0 | N50: =SUM(N10:N49) -> 0 | P50: =SUM(P10:P49) -> 0 | Q50: =SUM(Q10:Q49) -> 0

Sheet E&E-SI
A1: Converged E&E System Implementation
A2: Bidder Name | B2: =Signature!C11 -> 0
A3: Instructions, Assumptions, and Notes
A4: Instructions 1. The Bidder must input values into the yellow cells, including the cost for implementing each Converged E&E System component in a production environment. 2. If there is no cost associated with a yellow cell, enter "0" (zero). Assumptions -The Bidder's fixed fee Implementation Costs for each Converged E&E System component must include all costs related to the operation of the Platform. This includes activities, tasks, and necessary licensing for hosting on AWS, as well as costs associated with the design, development, and implementation (DDI) of each component. Additionally, it should cover costs for deploying the component into a production environment and for creating and maintaining the required Solution Development Life Cycle (SDLC) deliverables. Notes 1. Some of the components will have already been developed by the Incumbent Contractor to support the MECM System. For such components, the DDI cost must only be for changes to those components to support the net-new functionality required for the Converged E&E System. 2. The overall implementation cost is spread evenly over Years 1 and 2 of the Contract term. Payment will only be made once all deliverables for each SDLC phase have been completed and approved by the Department. 3. Deliverables that must be submitted by the Contractor for each SDLC Phase are detailed in Section 5.10.4 - Converged Eligibility and Enrollment System Implementation Payment of this RFP.
A6: Total System Implementation Cost | C6: =I37 -> 0
A8: Converged E&E System DDI | I8: Total Cost
A9: Converged E&E System | B9: Component1 | C9: Implementation Cost2 | D9: Implementation Phase
D10: Scope Prioritization | E10: Iterative Design & Development | F10: Testing | G10: Deployment & Hypercare
B11: Appeals​ | C11: 0 | D11: =$C$11*$D$42 -> 0 | E11: =$C$11*$D$43 -> 0 | F11: =$C$11*$D$44 -> 0 | G11: =$C$11*$D$45 -> 0 | I11: =SUM(D11:G36) -> 0
B12: Assistor Portal​
B13: Chat Bot
B14: Core Framework
B15: Data Collection​
B16: Data Fabric
B17: DevSecOps
B18: Document Management​
B19: Eligibility​
B20: Employer Portal
B21: Enrollment​
B22: Infrastructure Services
B23: Intake​
... B36: Worker Portal
A37: Total | C37: =SUM(C11:C36) -> 0 | D37: =SUM(D11:D36) -> 0 | E37: =SUM(E11:E36) -> 0 | F37: =SUM(F11:F36) -> 0 | G37: =SUM(G11:G36) -> 0 | I37: =SUM(I11:I36) -> 0
A39: The payment milestones for the Converged E&E System Implementation scope of work include:
A40: # | B40: Payment Milestones | D40: Payment Percentage | E40: Payment Amount
A41: Payments will be made when the following SDLC phase tasks/activities are complete and the associated deliverables are approved by the Department.3
A42: 1 | B42: Scope Prioritization | D42: 0.1 | E42: =$I$37*D42 -> 0
A43: 2 | B43: Iterative Design & Development | D43: 0.25 | E43: =$I$37*D43 -> 0
A44: 3 | B44: Testing | D44: 0.3 | E44: =$I$37*D44 -> 0
A45: 4 | B45: Deployment & Hypercare | D45: 0.35 | E45: =$I$37*D45 -> 0
A46: Total | E46: =SUM(E42:E45) -> 0

Sheet E&E-TRN
A1: Training
A2: Bidder Name | C2: =Signature!C11 -> 0
A3: Instructions, Assumptions, and Notes
A4: Instructions 1. The Bidder must input values into the yellow cells, including: - Hourly rates, based on the training category, per month for the term of contract. 2. The Bidder must input values into the yellow cells, including the cost per submission of each listed deliverable. 3. If there is no unit cost or hours associated with a yellow cell, enter "0" (zero). 4. Cells that are greyed out are not applicable. Assumptions - Unused funds in prior Contract years for supplemental training costs may be moved forward to subsequent Contract years. Notes 1. In the case that the actual number of submissions of a deliverable differs from the expected number of submissions, the Contractor's payment must depend on the actual number of submissions. 2. Refer to the RFP for the timing of initial submissions and updates of deliverables. 3. The hourly rates must be fully loaded and include all personnel, overhead, indirect, travel, profit, equipment usage, and other miscellaneous costs. 4. Projected number of training hours per year.
A6: Total Training Cost | C6: =Y29 -> 0
A8: # | B8: Deliverable1 | C8: Frequency 2 | D8: Year 1 Cost per Submission | E8: Year 1 Annual Cost | G8: Year 2 Cost per Submission | H8: Year 2 Annual Cost | J8: Year 3 Cost per Submission | K8: Year 3 Annual Cost | M8: Year 4 Cost per Submission | N8: Year 4 Annual Cost | P8: Year 5 Cost per Submission | Q8: Year 5 Annual Cost | S8: Year 6 Cost per Submission | T8: Year 6 Annual Cost | V8: Year 7 Cost per Submission | W8: Year 7 Annual Cost | Y8: Total Cost
A9: Initial Submission
A10: 1 | B10: User Manuals | C10: One-Time | G10: 0 | H10: =G10 -> 0 | Y10: =H10 -> 0
A11: 2 | B11: Training Plan | C11: One-Time | D11: 0 | E11: =D11 -> 0 | Y11: =$E11 -> 0
A12: 3 | B12: End User Training Materials and Artifacts | C12: One-Time | G12: 0 | H12: =G12 -> 0 | Y12: =H12 -> 0
A13: Initial Submission Sub-Total | D13: Year 1: | E13: =SUM(E11:F12) -> 0 | G13: Year 2: | H13: =SUM(H11:I12) -> 0 | J13: Year 3: | K13: =SUM(K11:L12) -> 0 | M13: Year 4: | N13: =SUM(N11:O12) -> 0 | P13: Year 5: | Q13: =SUM(Q11:R12) -> 0 | S13: Year 6: | T13: =SUM(T11:U12) -> 0 | V13: Year 7: | W13: =SUM(W11:X12) -> 0 | Y13: =SUM(Y10:Y12) -> 0
A15: # | B15: Deliverable1 | C15: Frequency 2 | D15: Monthly Cost | E15: Year 1 Annual Cost | G15: Monthly Cost | H15: Year 2 Annual Cost | J15: Monthly Cost | K15: Year 3 Annual Cost | M15: Monthly Cost | N15: Year 4 Annual Cost | P15: Monthly Cost | Q15: Year 5 Annual Cost | S15: Monthly Cost | T15: Year 6 Annual Cost | V15: Monthly Cost | W15: Year 7 Annual Cost | Y15: Total Cost
A16: Reoccurring Submissions
A17: 4 | B17: User Manual - Updates | C17: Monthly | G17: 0 | H17: =G17*12 -> 0 | J17: 0 | K17: =J17*12 -> 0 | M17: 0 | N17: =M17*12 -> 0 | P17: 0 | Q17: =P17*12 -> 0 | S17: 0 | T17: =S17*12 -> 0 | V17: 0 | W17: =V17*12 -> 0 | Y17: =$E17+H17+K17+N17+Q17+T17+W17 -> 0
A18: 5 | B18: Training Plan - Updates | C18: Monthly | G18: 0 | H18: =G18*12 -> 0 | J18: 0 | K18: =J18*12 -> 0 | M18: 0 | N18: =M18*12 -> 0 | P18: 0 | Q18: =P18*12 -> 0 | S18: 0 | T18: =S18*12 -> 0 | V18: 0 | W18: =V18*12 -> 0 | Y18: =$E18+H18+K18+N18+Q18+T18+W18 -> 0
A19: 6 | B19: End User Training Materials and Artifacts - Updates | C19: Monthly | G19: 0 | H19: =G19*12 -> 0 | J19: 0 | K19: =J19*12 -> 0 | M19: 0 | N19: =M19*12 -> 0 | P19: 0 | Q19: =P19*12 -> 0 | S19: 0 | T19: =S19*12 -> 0 | V19: 0 | W19: =V19*12 -> 0 | Y19: =$E19+H19+K19+N19+Q19+T19+W19 -> 0
A20: Reoccurring Submissions Sub-Total | D20: Year 1: | E20: =SUM(E17:F19) -> 0 | G20: Year 2: | H20: =SUM(H17:I19) -> 0 | J20: Year 3: | K20: =SUM(K17:L19) -> 0 | M20: Year 4: | N20: =SUM(N17:O19) -> 0 | P20: Year 5: | Q20: =SUM(Q17:R19) -> 0 | S20: Year 6: | T20: =SUM(T17:U19) -> 0 | V20: Year 7: | W20: =SUM(W17:X19) -> 0 | Y20: =SUM(Y17:Y19) -> 0
A22: Training Deliverable Total | D22: Year 1: | E22: =SUM(E13,E20) -> 0 | G22: Year 2: | H22: =SUM(H13,H20) -> 0 | J22: Year 3: | K22: =SUM(K13,K20) -> 0 | M22: Year 4: | N22: =SUM(N13,N20) -> 0 | P22: Year 5: | Q22: =SUM(Q13,Q20) -> 0 | S22: Year 6: | T22: =SUM(T13,T20) -> 0 | V22: Year 7: | W22: =SUM(W13,W20) -> 0 | Y22: =Y13+Y20 -> 0
A24: # | B24: Training | D24: Year 1 | G24: Year 2 | J24: Year 3 | M24: Year 4 | P24: Year 5 | S24: Year 6 | V24: Year 7
D25: Blended Hourly Rate3 | E25: Number of Hours4 | F25: Cost | G25: Blended Hourly Rate | H25: Number of Hours | I25: Cost | J25: Blended Hourly Rate | K25: Number of Hours | L25: Cost | M25: Blended Hourly Rate | N25: Number of Hours | O25: Cost | P25: Blended Hourly Rate | Q25: Number of Hours | R25: Cost | S25: Blended Hourly Rate | T25: Number of Hours | U25: Cost | V25: Blended Hourly Rate | W25: Number of Hours | X25: Cost | Y25: Total Cost
A26: 7 | B26: Ongoing Training | D26: 0 | E26: 2000 | F26: =D26*E26 -> 0 | G26: 0 | H26: 2000 | I26: =G26*H26 -> 0 | J26: 0 | K26: 1000 | L26: =J26*K26 -> 0 | M26: 0 | N26: 1000 | O26: =M26*N26 -> 0 | P26: 0 | Q26: 1000 | R26: =P26*Q26 -> 0 | S26: 0 | T26: 1000 | U26: =S26*T26 -> 0 | V26: 0 | W26: 1000 | X26: =V26*W26 -> 0 | Y26: =F26+I26+L26+O26+R26+U26+X26 -> 0
B27: Total | D27: Year 1: | F27: =F26 -> 0 | G27: Year 2: | I27: =I26 -> 0 | J27: Year 3: | L27: =L26 -> 0 | M27: Year 4: | O27: =O26 -> 0 | P27: Year 5: | R27: =R26 -> 0 | S27: Year 6: | U27: =U26 -> 0 | V27: Year 7: | X27: =X26 -> 0 | Y27: =SUM(Y26) -> 0
A29: Training Grand Total | D29: Year 1: | E29: =E22+F27 -> 0 | G29: Year 2: | H29: =H22+I27 -> 0 | J29: Year 3: | K29: =K22+L27 -> 0 | M29: Year 4: | N29: =N22+O27 -> 0 | P29: Year 5: | Q29: =Q22+R27 -> 0 | S29: Year 6: | T29: =T22+U27 -> 0 | V29: Year 7: | W29: =W22+X27 -> 0 | Y29: =Y22+Y27 -> 0

Sheet E&E-OCM
A1: Organizational Change Management
A2: Bidder Name | B2: =Signature!C11 -> 0
A3: Instructions, Assumptions, and Notes
A4: Instructions 1. The Bidder must input values into the yellow cells, including the cost per submission of each listed deliverable. 2. If there is no cost associated with a yellow cell, enter "0" (zero). 3. Cells that are greyed out are not applicable. Assumptions - The Bidder's costs must include the level of effort (i.e., activities and tasks) to create and maintain the listed deliverables. Notes 1. In the case that the actual number of submissions of a deliverable differs from the expected number of submissions, the Contractor's payment must depend on the actual number of submissions. 2. Refer to the RFP for the timing of initial submissions and updates of deliverables. Some deliverables may require updates, but payment will only occur following the final update.
A6: Total OCM Cost | C6: =K15 -> 0
A8: # | B8: Deliverable1 | C8: Frequency 2 | D8: Year 1 Cost | E8: Year 2 Cost | F8: Year 3 Cost | G8: Year 4 Cost | H8: Year 5 Cost | I8: Year 6 Cost | J8: Year 7 Cost | K8: Total Cost
A9: 1 | B9: OCM Strategy and Master Plan | C9: One-Time | D9: 0 | K9: =D9 -> 0
A10: 2 | B10: Stakeholder Analysis and Impact Assessment Report | C10: One-Time | D10: 0 | K10: =D10 -> 0
A11: 3 | B11: Change Readiness Assessment | C11: One-Time | E11: 0 | K11: =E11 -> 0
A12: 4 | B12: Communication Strategy and Execution Matrix | C12: One-Time | D12: 0 | K12: =D12 -> 0
A13: 5 | B13: Post Go-Live Adoption Measurement Dashboard | C13: One-Time | F13: 0 | K13: =F13 -> 0
A15: OCM Deliverable Total | D15: =SUM(D9:D13) -> 0 | E15: =SUM(E9:E13) -> 0 | F15: =SUM(F9:F13) -> 0 | G15: =SUM(G9:G13) -> 0 | H15: =SUM(H9:H13) -> 0 | I15: =SUM(I9:I13) -> 0 | J15: =SUM(J9:J13) -> 0 | K15: =SUM(K9:K13) -> 0

Sheet E&E-CBT
A1: Capacity-Based Teams
A2: Bidder Name | B2: =Signature!C11 -> 0
A3: Instructions, Assumptions, and Notes
A4: Instructions 1. The Bidder must input values into the yellow cells, including the monthly cost for the monthly cost to run one (1) of their capacity-based teams (CBTs). 2. If there is no cost associated with a yellow cell, enter "0" (zero). Assumptions - By default, the Department will pay the fixed price per month, but if the CBT is working on a Major System Update, the same fixed price per month must be invoiced to pull down from the Major System Update budget instead. - The CBT will not support M&O. Notes 1. The Bidder's costs must include all costs related to the capacity-based team including all personnel, overhead, indirect, travel, profit, equipment usage, and other miscellaneous costs.
A6: Total CBT Cost | C6: =Q15 -> 0
A8: Number of Capacity-Based Teams | C8: 1
A10: # | B10: Component | C10: Year 1 | E10: Year 2 | G10: Year 3 | I10: Year 4 | K10: Year 5 | M10: Year 6 | O10: Year 7 | Q10: Total Cost
C11: Monthly Cost1 | D11: Annual Cost | E11: Monthly Cost | F11: Annual Cost | G11: Monthly Cost | H11: Annual Cost | I11: Monthly Cost | J11: Annual Cost | K11: Monthly Cost | L11: Annual Cost | M11: Monthly Cost | N11: Annual Cost | O11: Monthly Cost | P11: Annual Cost
A12: 1 | B12: Capacity-Based Team | C12: 0 | D12: =C12*12 -> 0 | E12: 0 | F12: =E12*12 -> 0 | G12: 0 | H12: =G12*12 -> 0 | I12: 0 | J12: =I12*12 -> 0 | K12: 0 | L12: =K12*12 -> 0 | M12: 0 | N12: =M12*12 -> 0 | O12: 0 | P12: =O12*12 -> 0 | Q12: =$D12+$F12+$H12+$J12+$L12+$N12+$P12 -> 0
A13: Per Team Total | C13: Year 1: | D13: =SUM(D12) -> 0 | E13: Year 2: | F13: =SUM(F12) -> 0 | G13: Year 3: | H13: =SUM(H12) -> 0 | I13: Year 4: | J13: =SUM(J12) -> 0 | K13: Year 5: | L13: =SUM(L12) -> 0 | M13: Year 6: | N13: =SUM(N12) -> 0 | O13: Year 7: | P13: =SUM(P12) -> 0 | Q13: =SUM(Q12) -> 0
A15: Grand Total | C15: Year 1: | D15: =D12*$C$8 -> 0 | E15: Year 2: | F15: =F12*$C$8 -> 0 | G15: Year 3: | H15: =H12*$C$8 -> 0 | I15: Year 4: | J15: =J12*$C$8 -> 0 | K15: Year 5: | L15: =L12*$C$8 -> 0 | M15: Year 6: | N15: =N12*$C$8 -> 0 | O15: Year 7: | P15: =P12*$C$8 -> 0 | Q15: =Q12*$C$8 -> 0

Sheet E&E-MAJ
A1: Major System Updates
A2: Bidder Name | C2: =Signature!C11 -> 0
A3: Instructions, Assumptions, and Notes
A4: Instructions 1. The Bidder must input values into the yellow cells, including the hourly rates for Key and Support Staff to support major system updates for the Converged E&E System and AMS. All Key and Support Staff must have hourly rates. 2. If there is no cost associated with a yellow cell, enter "0" (zero). Assumptions - “Major System Updates” refer to significant pre-planned updates to core software components or tools. These updates typically introduce major new features, architectural changes, or compatibility updates. This includes strategic changes to the production environment that introduce new functionality or materially alter the system's architecture. This does not include activities classified as M&O. Notes 1. The major system update budget is based on the number of hours assigned to each role for each year multiplied by the hourly rate for each role in that year. 2. Hourly rates must be fully loaded rates and include all personnel, overhead, indirect, travel, profit, equipment usage, and other miscellaneous costs. 3. Hours are estimates and are not intended to prescribe the exact amount of hours available to each role. Task orders priced using time and materials will use the rates below, but some task orders may use different cost structures. 4. Some support staff hours and rates have been combined for senior and junior versions of the role. Provide a blended rate for these roles.
A6: Total Major System Update Budget 1 | C6: =$R$48 -> 0
A8: Rate Card for Major System Updates
A9: # | B9: Role | C9: Year 1 | E9: Year 2 | G9: Year 3 | I9: Year 4 | K9: Year 5 | M9: Year 6 | O9: Year 7 | Q9: Total
C10: Hourly Rate2 | D10: Hours3 | E10: Hourly Rate2 | F10: Hours3 | G10: Hourly Rate2 | H10: Hours3 | I10: Hourly Rate2 | J10: Hours3 | K10: Hourly Rate2 | L10: Hours3 | M10: Hourly Rate2 | N10: Hours3 | O10: Hourly Rate2 | P10: Hours3
B11: Key Staff
A12: 1 | B12: Project Executive | C12: 0 | D12: 2500 | E12: 0 | F12: 2500 | G12: 0 | H12: 2500 | I12: 0 | J12: 2500 | K12: 0 | L12: 2500 | M12: 0 | N12: 2500 | O12: 0 | P12: 2500 | Q12: =SUM(C12*D12,E12*F12,G12*H12,I12*J12,K12*L12,M12*N12,O12*P12) -> 0
A13: 2 | B13: Project Director | C13: 0 | D13: 2500 | E13: 0 | F13: 2500 | G13: 0 | H13: 2500 | I13: 0 | J13: 2500 | K13: 0 | L13: 2500 | M13: 0 | N13: 2500 | O13: 0 | P13: 2500 | Q13: =SUM(C13*D13,E13*F13,G13*H13,I13*J13,K13*L13,M13*N13,O13*P13) -> 0
A14: 3 | B14: Functional Manager | C14: 0 | D14: 2500 | E14: 0 | F14: 2500 | G14: 0 | H14: 2500 | I14: 0 | J14: 2500 | K14: 0 | L14: 2500 | M14: 0 | N14: 2500 | O14: 0 | P14: 2500 | Q14: =SUM(C14*D14,E14*F14,G14*H14,I14*J14,K14*L14,M14*N14,O14*P14) -> 0
A15: 4 | B15: PMO Manager | C15: 0 | D15: 2500 | E15: 0 | F15: 2500 | G15: 0 | H15: 2500 | I15: 0 | J15: 2500 | K15: 0 | L15: 2500 | M15: 0 | N15: 2500 | O15: 0 | P15: 2500 | Q15: =SUM(C15*D15,E15*F15,G15*H15,I15*J15,K15*L15,M15*N15,O15*P15) -> 0
A16: 5 | B16: M&O Manager | C16: 0 | D16: 2500 | E16: 0 | F16: 2500 | G16: 0 | H16: 2500 | I16: 0 | J16: 2500 | K16: 0 | L16: 2500 | M16: 0 | N16: 2500 | O16: 0 | P16: 2500 | Q16: =SUM(C16*D16,E16*F16,G16*H16,I16*J16,K16*L16,M16*N16,O16*P16) -> 0
A17: 6 | B17: Technical Manager | C17: 0 | D17: 2500 | E17: 0 | F17: 2500 | G17: 0 | H17: 2500 | I17: 0 | J17: 2500 | K17: 0 | L17: 2500 | M17: 0 | N17: 2500 | O17: 0 | P17: 2500 | Q17: =SUM(C17*D17,E17*F17,G17*H17,I17*J17,K17*L17,M17*N17,O17*P17) -> 0
A18: 7 | B18: Security and Privacy Manager | C18: 0 | D18: 2500 | E18: 0 | F18: 2500 | G18: 0 | H18: 2500 | I18: 0 | J18: 2500 | K18: 0 | L18: 2500 | M18: 0 | N18: 2500 | O18: 0 | P18: 2500 | Q18: =SUM(C18*D18,E18*F18,G18*H18,I18*J18,K18*L18,M18*N18,O18*P18) -> 0
A19: 8 | B19: Data Manager | C19: 0 | D19: 2500 | E19: 0 | F19: 2500 | G19: 0 | H19: 2500 | I19: 0 | J19: 2500 | K19: 0 | L19: 2500 | M19: 0 | N19: 2500 | O19: 0 | P19: 2500 | Q19: =SUM(C19*D19,E19*F19,G19*H19,I19*J19,K19*L19,M19*N19,O19*P19) -> 0
A20: 9 | B20: Testing Manager | C20: 0 | D20: 2500 | E20: 0 | F20: 2500 | G20: 0 | H20: 2500 | I20: 0 | J20: 2500 | K20: 0 | L20: 2500 | M20: 0 | N20: 2500 | O20: 0 | P20: 2500 | Q20: =SUM(C20*D20,E20*F20,G20*H20,I20*J20,K20*L20,M20*N20,O20*P20) -> 0
A21: 10 | B21: OCM Manager | C21: 0 | D21: 2500 | E21: 0 | F21: 2500 | G21: 0 | H21: 2500 | I21: 0 | J21: 2500 | K21: 0 | L21: 2500 | M21: 0 | N21: 2500 | O21: 0 | P21: 2500 | Q21: =SUM(C21*D21,E21*F21,G21*H21,I21*J21,K21*L21,M21*N21,O21*P21) -> 0
A22: 11 | B22: QA Manager | C22: 0 | D22: 2500 | E22: 0 | F22: 2500 | G22: 0 | H22: 2500 | I22: 0 | J22: 2500 | K22: 0 | L22: 2500 | M22: 0 | N22: 2500 | O22: 0 | P22: 2500 | Q22: =SUM(C22*D22,E22*F22,G22*H22,I22*J22,K22*L22,M22*N22,O22*P22) -> 0
B23: Support Staff4
A24: 1 | B24: Senior System Architect/ Principal Engineer | C24: 0 | D24: 2500 | E24: 0 | F24: 2500 | G24: 0 | H24: 2500 | I24: 0 | J24: 2500 | K24: 0 | L24: 2500 | M24: 0 | N24: 2500 | O24: 0 | P24: 2500 | Q24: =SUM(C24*D24,E24*F24,G24*H24,I24*J24,K24*L24,M24*N24,O24*P24) -> 0
A25: 2 | B25: HCD Expert | C25: 0 | D25: 2500 | E25: 0 | F25: 2500 | G25: 0 | H25: 2500 | I25: 0 | J25: 2500 | K25: 0 | L25: 2500 | M25: 0 | N25: 2500 | O25: 0 | P25: 2500 | Q25: =SUM(C25*D25,E25*F25,G25*H25,I25*J25,K25*L25,M25*N25,O25*P25) -> 0
A26: 3 | B26: Security Analyst | C26: 0 | D26: 1500 | E26: 0 | F26: 1500 | G26: 0 | H26: 1500 | I26: 0 | J26: 1500 | K26: 0 | L26: 1500 | M26: 0 | N26: 1500 | O26: 0 | P26: 1500 | Q26: =SUM(C26*D26,E26*F26,G26*H26,I26*J26,K26*L26,M26*N26,O26*P26) -> 0
A27: 4 | B27: Senior Programmer/ Developer | C27: 0 | D27: 16500 | E27: 0 | F27: 16500 | G27: 0 | H27: 16500 | I27: 0 | J27: 16500 | K27: 0 | L27: 16500 | M27: 0 | N27: 16500 | O27: 0 | P27: 16500 | Q27: =SUM(C27*D27,E27*F27,G27*H27,I27*J27,K27*L27,M27*N27,O27*P27) -> 0
A28: 5 | B28: Programmer/ Developer | C28: 0 | D28: 16500 | E28: 0 | F28: 16500 | G28: 0 | H28: 16500 | I28: 0 | J28: 16500 | K28: 0 | L28: 16500 | M28: 0 | N28: 16500 | O28: 0 | P28: 16500 | Q28: =SUM(C28*D28,E28*F28,G28*H28,I28*J28,K28*L28,M28*N28,O28*P28) -> 0
A29: 6 | B29: Senior System Administrator | C29: 0 | D29: 2500 | E29: 0 | F29: 2500 | G29: 0 | H29: 2500 | I29: 0 | J29: 2500 | K29: 0 | L29: 2500 | M29: 0 | N29: 2500 | O29: 0 | P29: 2500 | Q29: =SUM(C29*D29,E29*F29,G29*H29,I29*J29,K29*L29,M29*N29,O29*P29) -> 0
A30: 7 | B30: System Administrator | C30: 0 | D30: 2500 | E30: 0 | F30: 2500 | G30: 0 | H30: 2500 | I30: 0 | J30: 2500 | K30: 0 | L30: 2500 | M30: 0 | N30: 2500 | O30: 0 | P30: 2500 | Q30: =SUM(C30*D30,E30*F30,G30*H30,I30*J30,K30*L30,M30*N30,O30*P30) -> 0
A31: 8 | B31: Senior Database Administrator | C31: 0 | D31: 1500 | E31: 0 | F31: 1500 | G31: 0 | H31: 1500 | I31: 0 | J31: 1500 | K31: 0 | L31: 1500 | M31: 0 | N31: 1500 | O31: 0 | P31: 1500 | Q31: =SUM(C31*D31,E31*F31,G31*H31,I31*J31,K31*L31,M31*N31,O31*P31) -> 0
A32: 9 | B32: Database Administrator | C32: 0 | D32: 1000 | E32: 0 | F32: 1000 | G32: 0 | H32: 1000 | I32: 0 | J32: 1000 | K32: 0 | L32: 1000 | M32: 0 | N32: 1000 | O32: 0 | P32: 1000 | Q32: =SUM(C32*D32,E32*F32,G32*H32,I32*J32,K32*L32,M32*N32,O32*P32) -> 0
A33: 10 | B33: Senior Database Analyst | C33: 0 | D33: 1500 | E33: 0 | F33: 1500 | G33: 0 | H33: 1500 | I33: 0 | J33: 1500 | K33: 0 | L33: 1500 | M33: 0 | N33: 1500 | O33: 0 | P33: 1500 | Q33: =SUM(C33*D33,E33*F33,G33*H33,I33*J33,K33*L33,M33*N33,O33*P33) -> 0
A34: 11 | B34: Database Analyst | C34: 0 | D34: 1000 | E34: 0 | F34: 1000 | G34: 0 | H34: 1000 | I34: 0 | J34: 1000 | K34: 0 | L34: 1000 | M34: 0 | N34: 1000 | O34: 0 | P34: 1000 | Q34: =SUM(C34*D34,E34*F34,G34*H34,I34*J34,K34*L34,M34*N34,O34*P34) -> 0
A35: 12 | B35: Senior System Tester | C35: 0 | D35: 13500 | E35: 0 | F35: 13500 | G35: 0 | H35: 13500 | I35: 0 | J35: 13500 | K35: 0 | L35: 13500 | M35: 0 | N35: 13500 | O35: 0 | P35: 13500 | Q35: =SUM(C35*D35,E35*F35,G35*H35,I35*J35,K35*L35,M35*N35,O35*P35) -> 0
... A47: 24 | B47: Contract Administrator | C47: 0 | D47: 4000 | E47: 0 | F47: 4000 | G47: 0 | H47: 4000 | I47: 0 | J47: 4000 | K47: 0 | L47: 4000 | M47: 0 | N47: 4000 | O47: 0 | P47: 4000 | Q47: =SUM(C47*D47,E47*F47,G47*H47,I47*J47,K47*L47,M47*N47,O47*P47) -> 0
B48: Total | C48: Year 1 | D48: =SUMPRODUCT(C12:C22,D12:D22)+SUMPRODUCT(C24:C47,D24:D47) -> 0 | E48: Year 2 | F48: =SUMPRODUCT(E12:E22,F12:F22)+SUMPRODUCT(E24:E47,F24:F47) -> 0 | G48: Year 3 | H48: =SUMPRODUCT(G12:G22,H12:H22)+SUMPRODUCT(G24:G47,H24:H47) -> 0 | I48: Year 4 | J48: =SUMPRODUCT(I12:I22,J12:J22)+SUMPRODUCT(I24:I47,J24:J47) -> 0 | K48: Year 5 | L48: =SUMPRODUCT(K12:K22,L12:L22)+SUMPRODUCT(K24:K47,L24:L47) -> 0 | M48: Year 6 | N48: =SUMPRODUCT(M12:M22,N12:N22)+SUMPRODUCT(M24:M47,N24:N47) -> 0 | O48: Year 7 | P48: =SUMPRODUCT(O12:O22,P12:P22)+SUMPRODUCT(O24:O47,P24:P47) -> 0 | Q48: Grand Total | R48: =SUM(Q12:Q22,Q24:Q47) -> 0

Sheet E&E-EN
A1: Enhancements
A2: Bidder Name | C2: =Signature!C11 -> 0
A3: Instructions, Assumptions, and Notes
A4: Instructions 1. The Bidder must input values into the yellow cells, including the hourly rates for Key and Support Staff to support enhancements of the Converged E&E System and AMS components. All Key and Support Staff must have hourly rates. 2. If there is no cost associated with a yellow cell, enter "0" (zero). Assumptions - “Enhancements" are used to support the following once the capacity-based teams have reached their capacity but additional work is required: - New Products: The introduction of new software, services, or tools to provide new capabilities. - Changes to/Replacement of Products: The formal decommissioning and substitution of an existing software, service, or tool with a new one, including the full migration of functionality and user access. - Minor System Updates: Smaller, routine, incremental updates. These updates are generally focused on stability, security, and performance improvements. - This does not include activities classified as M&O. Notes 1. The enhancement budget is based on the number of hours assigned to each role for each year multiplied by the hourly rate for each role in that year. 2. Hourly rates must be fully loaded rates and include all personnel, overhead, indirect, travel, profit, equipment usage, and other miscellaneous costs. 3. Hours are estimates and are not intended to prescribe the exact amount of hours available to each role. Task orders priced using time and materials will use the rates below, but some task orders may use different cost structures. 4. Some support staff hours and rates have been combined for senior and junior versions of the role. Provide a blended rate for these roles.
A6: Total Enhancement Budget 1 | C6: =$R$48 -> 0
A8: Rate Card for Enhancements
A9: # | B9: Role | C9: Year 1 | E9: Year 2 | G9: Year 3 | I9: Year 4 | K9: Year 5 | M9: Year 6 | O9: Year 7 | Q9: Total
C10: Hourly Rate2 | D10: Hours3 | E10: Hourly Rate2 | F10: Hours3 | G10: Hourly Rate2 | H10: Hours3 | I10: Hourly Rate2 | J10: Hours3 | K10: Hourly Rate2 | L10: Hours3 | M10: Hourly Rate2 | N10: Hours3 | O10: Hourly Rate2 | P10: Hours3
B11: Key Staff
A12: 1 | B12: Project Executive | C12: 0 | D12: 2500 | E12: 0 | F12: 2500 | G12: 0 | H12: 2500 | I12: 0 | J12: 2500 | K12: 0 | L12: 2500 | M12: 0 | N12: 2500 | O12: 0 | P12: 2500 | Q12: =SUM(C12*D12,E12*F12,G12*H12,I12*J12,K12*L12,M12*N12,O12*P12) -> 0
A13: 2 | B13: Project Director | C13: 0 | D13: 2500 | E13: 0 | F13: 2500 | G13: 0 | H13: 2500 | I13: 0 | J13: 2500 | K13: 0 | L13: 2500 | M13: 0 | N13: 2500 | O13: 0 | P13: 2500 | Q13: =SUM(C13*D13,E13*F13,G13*H13,I13*J13,K13*L13,M13*N13,O13*P13) -> 0
A14: 3 | B14: Functional Manager | C14: 0 | D14: 2500 | E14: 0 | F14: 2500 | G14: 0 | H14: 2500 | I14: 0 | J14: 2500 | K14: 0 | L14: 2500 | M14: 0 | N14: 2500 | O14: 0 | P14: 2500 | Q14: =SUM(C14*D14,E14*F14,G14*H14,I14*J14,K14*L14,M14*N14,O14*P14) -> 0
A15: 4 | B15: PMO Manager | C15: 0 | D15: 2500 | E15: 0 | F15: 2500 | G15: 0 | H15: 2500 | I15: 0 | J15: 2500 | K15: 0 | L15: 2500 | M15: 0 | N15: 2500 | O15: 0 | P15: 2500 | Q15: =SUM(C15*D15,E15*F15,G15*H15,I15*J15,K15*L15,M15*N15,O15*P15) -> 0
A16: 5 | B16: M&O Manager | C16: 0 | D16: 2500 | E16: 0 | F16: 2500 | G16: 0 | H16: 2500 | I16: 0 | J16: 2500 | K16: 0 | L16: 2500 | M16: 0 | N16: 2500 | O16: 0 | P16: 2500 | Q16: =SUM(C16*D16,E16*F16,G16*H16,I16*J16,K16*L16,M16*N16,O16*P16) -> 0
A17: 6 | B17: Technical Manager | C17: 0 | D17: 2500 | E17: 0 | F17: 2500 | G17: 0 | H17: 2500 | I17: 0 | J17: 2500 | K17: 0 | L17: 2500 | M17: 0 | N17: 2500 | O17: 0 | P17: 2500 | Q17: =SUM(C17*D17,E17*F17,G17*H17,I17*J17,K17*L17,M17*N17,O17*P17) -> 0
A18: 7 | B18: Security and Privacy Manager | C18: 0 | D18: 2500 | E18: 0 | F18: 2500 | G18: 0 | H18: 2500 | I18: 0 | J18: 2500 | K18: 0 | L18: 2500 | M18: 0 | N18: 2500 | O18: 0 | P18: 2500 | Q18: =SUM(C18*D18,E18*F18,G18*H18,I18*J18,K18*L18,M18*N18,O18*P18) -> 0
A19: 8 | B19: Data Manager | C19: 0 | D19: 2500 | E19: 0 | F19: 2500 | G19: 0 | H19: 2500 | I19: 0 | J19: 2500 | K19: 0 | L19: 2500 | M19: 0 | N19: 2500 | O19: 0 | P19: 2500 | Q19: =SUM(C19*D19,E19*F19,G19*H19,I19*J19,K19*L19,M19*N19,O19*P19) -> 0
A20: 9 | B20: Testing Manager | C20: 0 | D20: 2500 | E20: 0 | F20: 2500 | G20: 0 | H20: 2500 | I20: 0 | J20: 2500 | K20: 0 | L20: 2500 | M20: 0 | N20: 2500 | O20: 0 | P20: 2500 | Q20: =SUM(C20*D20,E20*F20,G20*H20,I20*J20,K20*L20,M20*N20,O20*P20) -> 0
A21: 10 | B21: OCM Manager | C21: 0 | D21: 2500 | E21: 0 | F21: 2500 | G21: 0 | H21: 2500 | I21: 0 | J21: 2500 | K21: 0 | L21: 2500 | M21: 0 | N21: 2500 | O21: 0 | P21: 2500 | Q21: =SUM(C21*D21,E21*F21,G21*H21,I21*J21,K21*L21,M21*N21,O21*P21) -> 0
A22: 11 | B22: QA Manager | C22: 0 | D22: 2500 | E22: 0 | F22: 2500 | G22: 0 | H22: 2500 | I22: 0 | J22: 2500 | K22: 0 | L22: 2500 | M22: 0 | N22: 2500 | O22: 0 | P22: 2500 | Q22: =SUM(C22*D22,E22*F22,G22*H22,I22*J22,K22*L22,M22*N22,O22*P22) -> 0
B23: Support Staff4
A24: 1 | B24: Senior System Architect/ Principal Engineer | C24: 0 | D24: 2500 | E24: 0 | F24: 2500 | G24: 0 | H24: 2500 | I24: 0 | J24: 2500 | K24: 0 | L24: 2500 | M24: 0 | N24: 2500 | O24: 0 | P24: 2500 | Q24: =SUM(C24*D24,E24*F24,G24*H24,I24*J24,K24*L24,M24*N24,O24*P24) -> 0
A25: 2 | B25: HCD Expert | C25: 0 | D25: 2500 | E25: 0 | F25: 2500 | G25: 0 | H25: 2500 | I25: 0 | J25: 2500 | K25: 0 | L25: 2500 | M25: 0 | N25: 2500 | O25: 0 | P25: 2500 | Q25: =SUM(C25*D25,E25*F25,G25*H25,I25*J25,K25*L25,M25*N25,O25*P25) -> 0
A26: 3 | B26: Security Analyst | C26: 0 | D26: 1500 | E26: 0 | F26: 1500 | G26: 0 | H26: 1500 | I26: 0 | J26: 1500 | K26: 0 | L26: 1500 | M26: 0 | N26: 1500 | O26: 0 | P26: 1500 | Q26: =SUM(C26*D26,E26*F26,G26*H26,I26*J26,K26*L26,M26*N26,O26*P26) -> 0
A27: 4 | B27: Senior Programmer/ Developer | C27: 0 | D27: 16500 | E27: 0 | F27: 16500 | G27: 0 | H27: 16500 | I27: 0 | J27: 16500 | K27: 0 | L27: 16500 | M27: 0 | N27: 16500 | O27: 0 | P27: 16500 | Q27: =SUM(C27*D27,E27*F27,G27*H27,I27*J27,K27*L27,M27*N27,O27*P27) -> 0
A28: 5 | B28: Programmer/ Developer | C28: 0 | D28: 16500 | E28: 0 | F28: 16500 | G28: 0 | H28: 16500 | I28: 0 | J28: 16500 | K28: 0 | L28: 16500 | M28: 0 | N28: 16500 | O28: 0 | P28: 16500 | Q28: =SUM(C28*D28,E28*F28,G28*H28,I28*J28,K28*L28,M28*N28,O28*P28) -> 0
A29: 6 | B29: Senior System Administrator | C29: 0 | D29: 2500 | E29: 0 | F29: 2500 | G29: 0 | H29: 2500 | I29: 0 | J29: 2500 | K29: 0 | L29: 2500 | M29: 0 | N29: 2500 | O29: 0 | P29: 2500 | Q29: =SUM(C29*D29,E29*F29,G29*H29,I29*J29,K29*L29,M29*N29,O29*P29) -> 0
A30: 7 | B30: System Administrator | C30: 0 | D30: 2500 | E30: 0 | F30: 2500 | G30: 0 | H30: 2500 | I30: 0 | J30: 2500 | K30: 0 | L30: 2500 | M30: 0 | N30: 2500 | O30: 0 | P30: 2500 | Q30: =SUM(C30*D30,E30*F30,G30*H30,I30*J30,K30*L30,M30*N30,O30*P30) -> 0
A31: 8 | B31: Senior Database Administrator | C31: 0 | D31: 1500 | E31: 0 | F31: 1500 | G31: 0 | H31: 1500 | I31: 0 | J31: 1500 | K31: 0 | L31: 1500 | M31: 0 | N31: 1500 | O31: 0 | P31: 1500 | Q31: =SUM(C31*D31,E31*F31,G31*H31,I31*J31,K31*L31,M31*N31,O31*P31) -> 0
A32: 9 | B32: Database Administrator | C32: 0 | D32: 1000 | E32: 0 | F32: 1000 | G32: 0 | H32: 1000 | I32: 0 | J32: 1000 | K32: 0 | L32: 1000 | M32: 0 | N32: 1000 | O32: 0 | P32: 1000 | Q32: =SUM(C32*D32,E32*F32,G32*H32,I32*J32,K32*L32,M32*N32,O32*P32) -> 0
A33: 10 | B33: Senior Database Analyst | C33: 0 | D33: 1500 | E33: 0 | F33: 1500 | G33: 0 | H33: 1500 | I33: 0 | J33: 1500 | K33: 0 | L33: 1500 | M33: 0 | N33: 1500 | O33: 0 | P33: 1500 | Q33: =SUM(C33*D33,E33*F33,G33*H33,I33*J33,K33*L33,M33*N33,O33*P33) -> 0
A34: 11 | B34: Database Analyst | C34: 0 | D34: 1000 | E34: 0 | F34: 1000 | G34: 0 | H34: 1000 | I34: 0 | J34: 1000 | K34: 0 | L34: 1000 | M34: 0 | N34: 1000 | O34: 0 | P34: 1000 | Q34: =SUM(C34*D34,E34*F34,G34*H34,I34*J34,K34*L34,M34*N34,O34*P34) -> 0
A35: 12 | B35: Senior System Tester | C35: 0 | D35: 13500 | E35: 0 | F35: 13500 | G35: 0 | H35: 13500 | I35: 0 | J35: 13500 | K35: 0 | L35: 13500 | M35: 0 | N35: 13500 | O35: 0 | P35: 13500 | Q35: =SUM(C35*D35,E35*F35,G35*H35,I35*J35,K35*L35,M35*N35,O35*P35) -> 0
... A47: 24 | B47: Contract Administrator | C47: 0 | D47: 4000 | E47: 0 | F47: 4000 | G47: 0 | H47: 4000 | I47: 0 | J47: 4000 | K47: 0 | L47: 4000 | M47: 0 | N47: 4000 | O47: 0 | P47: 4000 | Q47: =SUM(C47*D47,E47*F47,G47*H47,I47*J47,K47*L47,M47*N47,O47*P47) -> 0
B48: Total | C48: Year 1 | D48: =SUMPRODUCT(C12:C22,D12:D22)+SUMPRODUCT(C24:C47,D24:D47) -> 0 | E48: Year 2 | F48: =SUMPRODUCT(E12:E22,F12:F22)+SUMPRODUCT(E24:E47,F24:F47) -> 0 | G48: Year 3 | H48: =SUMPRODUCT(G12:G22,H12:H22)+SUMPRODUCT(G24:G47,H24:H47) -> 0 | I48: Year 4 | J48: =SUMPRODUCT(I12:I22,J12:J22)+SUMPRODUCT(I24:I47,J24:J47) -> 0 | K48: Year 5 | L48: =SUMPRODUCT(K12:K22,L12:L22)+SUMPRODUCT(K24:K47,L24:L47) -> 0 | M48: Year 6 | N48: =SUMPRODUCT(M12:M22,N12:N22)+SUMPRODUCT(M24:M47,N24:N47) -> 0 | O48: Year 7 | P48: =SUMPRODUCT(O12:O22,P12:P22)+SUMPRODUCT(O24:O47,P24:P47) -> 0 | Q48: Grand Total | R48: =SUM(Q12:Q22,Q24:Q47) -> 0

Sheet E&E-KPI OKR
A1: Key Performance Indicators (KPIs) and Objectives and Key Results (OKRs)
A2: Bidder Name | B2: =Signature!C11 -> 0
A3: Instructions, Assumptions, and Notes
A4: Instructions 1. The Bidder must input values into the yellow cells, including: - Hourly rates, based on the training category, per month for the term of contract. 2. The Bidder must input values into the yellow cells, including the cost per submission of each listed deliverable. 3. If there is no unit cost or hours associated with a yellow cell, enter "0" (zero). 4. Cells that are greyed out are not applicable. Assumptions - Unused funds in prior Contract years for supplemental training costs may be moved forward to subsequent Contract years. Notes 1. In the case that the actual number of submissions of a deliverable differs from the expected number of submissions, the Contractor's payment must depend on the actual number of submissions. 2. Refer to the RFP for the timing of initial submissions and updates of deliverables. 3. The hourly rates must be fully loaded and include all personnel, overhead, indirect, travel, profit, equipment usage, and other miscellaneous costs. 4. Projected number of KPI/OKR hours per year.
A6: Total KPI and OKR Cost | C6: =Y30 -> 0
A8: # | B8: Deliverable1 | C8: Frequency 2 | D8: Year 1 Cost per Submission | E8: Year 1 Annual Cost | G8: Year 2 Cost per Submission | H8: Year 2 Annual Cost | J8: Year 3 Cost per Submission | K8: Year 3 Annual Cost | M8: Year 4 Cost per Submission | N8: Year 4 Annual Cost | P8: Year 5 Cost per Submission | Q8: Year 5 Annual Cost | S8: Year 6 Cost per Submission | T8: Year 6 Annual Cost | V8: Year 7 Cost per Submission | W8: Year 7 Annual Cost | Y8: Total Cost
A9: Initial Submission
A10: 1 | B10: KPI Framework - Initial Submission | C10: One-Time | D10: 0 | E10: =D10 -> 0 | Y10: =$E10 -> 0
A11: 2 | B11: Initial KPIs | C11: One-Time | D11: 0 | E11: =D11 -> 0 | Y11: =$E11 -> 0
A12: 3 | B12: OKR Framework - Initial Submission | C12: One-Time | D12: 0 | E12: =D12 -> 0 | Y12: =$E12 -> 0
A14: Initial Submission Sub-Total | D14: Year 1: | E14: =SUM(E11:F13) -> 0 | G14: Year 2: | H14: =SUM(H11:I13) -> 0 | J14: Year 3: | K14: =SUM(K11:L13) -> 0 | M14: Year 4: | N14: =SUM(N11:O13) -> 0 | P14: Year 5: | Q14: =SUM(Q11:R13) -> 0 | S14: Year 6: | T14: =SUM(T11:U13) -> 0 | V14: Year 7: | W14: =SUM(W11:X13) -> 0 | Y14: =SUM(Y11:Y13) -> 0
A16: # | B16: Deliverable1 | C16: Frequency 2 | D16: Year 1 Cost per Submission | E16: Year 1 Annual Cost | G16: Year 2 Cost per Submission | H16: Year 2 Annual Cost | J16: Year 3 Cost per Submission | K16: Year 3 Annual Cost | M16: Year 4 Cost per Submission | N16: Year 4 Annual Cost | P16: Year 5 Cost per Submission | Q16: Year 5 Annual Cost | S16: Year 6 Cost per Submission | T16: Year 6 Annual Cost | V16: Year 7 Cost per Submission | W16: Year 7 Annual Cost | Y16: Total Cost
A17: Reoccurring Submissions
A18: 4 | B18: KPI Framework - Annual Updates | C18: Annual | G18: 0 | H18: =G18 -> 0 | J18: 0 | K18: =J18 -> 0 | M18: 0 | N18: =M18 -> 0 | P18: 0 | Q18: =P18 -> 0 | S18: 0 | T18: =S18 -> 0 | V18: 0 | W18: =V18 -> 0 | Y18: =$E18+H18+K18+N18+Q18+T18+W18 -> 0
A19: 5 | B19: OKR Framework - Quarterly Updates | C19: Quarterly | G19: 0 | H19: =G19*4 -> 0 | J19: 0 | K19: =J19*4 -> 0 | M19: 0 | N19: =M19*4 -> 0 | P19: 0 | Q19: =P19*4 -> 0 | S19: 0 | T19: =S19*4 -> 0 | V19: 0 | W19: =V19*4 -> 0 | Y19: =$E19+H19+K19+N19+Q19+T19+W19 -> 0
A20: 6 | B20: OKR Summits - Quarterly | C20: Quarterly | G20: 0 | H20: =G20*4 -> 0 | J20: 0 | K20: =J20*4 -> 0 | M20: 0 | N20: =M20*4 -> 0 | P20: 0 | Q20: =P20*4 -> 0 | S20: 0 | T20: =S20*4 -> 0 | V20: 0 | W20: =V20*4 -> 0 | Y20: =$E20+H20+K20+N20+Q20+T20+W20 -> 0
A21: Reoccurring Submissions Sub-Total | D21: Year 1: | E21: =SUM(E18:F20) -> 0 | G21: Year 2: | H21: =SUM(H18:I20) -> 0 | J21: Year 3: | K21: =SUM(K18:L20) -> 0 | M21: Year 4: | N21: =SUM(N18:O20) -> 0 | P21: Year 5: | Q21: =SUM(Q18:R20) -> 0 | S21: Year 6: | T21: =SUM(T18:U20) -> 0 | V21: Year 7: | W21: =SUM(W18:X20) -> 0 | Y21: =SUM(Y18:Y20) -> 0
A23: KPI and OKR Deliverable Total | D23: Year 1: | E23: =SUM(E14,E21) -> 0 | G23: Year 2: | H23: =SUM(H14,H21) -> 0 | J23: Year 3: | K23: =SUM(K14,K21) -> 0 | M23: Year 4: | N23: =SUM(N14,N21) -> 0 | P23: Year 5: | Q23: =SUM(Q14,Q21) -> 0 | S23: Year 6: | T23: =SUM(T14,T21) -> 0 | V23: Year 7: | W23: =SUM(W14,W21) -> 0 | Y23: =Y14+Y21 -> 0
A25: # | B25: KPIs and OKRs | D25: Year 1 | G25: Year 2 | J25: Year 3 | M25: Year 4 | P25: Year 5 | S25: Year 6 | V25: Year 7
D26: Blended Hourly Rate3 | E26: Number of Hours4 | F26: Cost | G26: Blended Hourly Rate | H26: Number of Hours | I26: Cost | J26: Blended Hourly Rate | K26: Number of Hours | L26: Cost | M26: Blended Hourly Rate | N26: Number of Hours | O26: Cost | P26: Blended Hourly Rate | Q26: Number of Hours | R26: Cost | S26: Blended Hourly Rate | T26: Number of Hours | U26: Cost | V26: Blended Hourly Rate | W26: Number of Hours | X26: Cost | Y26: Total Cost
A27: 7 | B27: Ongoing KPI and OKR Support and Implementation | D27: 0 | E27: 1000 | F27: =D27*E27 -> 0 | G27: 0 | H27: 1000 | I27: =G27*H27 -> 0 | J27: 0 | K27: 1000 | L27: =J27*K27 -> 0 | M27: 0 | N27: 1000 | O27: =M27*N27 -> 0 | P27: 0 | Q27: 1000 | R27: =P27*Q27 -> 0 | S27: 0 | T27: 1000 | U27: =S27*T27 -> 0 | V27: 0 | W27: 1000 | X27: =V27*W27 -> 0 | Y27: =F27+I27+L27+O27+R27+U27+X27 -> 0
B28: Ongoing Support Total | D28: Year 1: | F28: =F27 -> 0 | G28: Year 2: | I28: =I27 -> 0 | J28: Year 3: | L28: =L27 -> 0 | M28: Year 4: | O28: =O27 -> 0 | P28: Year 5: | R28: =R27 -> 0 | S28: Year 6: | U28: =U27 -> 0 | V28: Year 7: | X28: =X27 -> 0 | Y28: =SUM(Y27) -> 0
A30: KPI and OKR Grand Total | D30: Year 1: | E30: =E23+F28 -> 0 | G30: Year 2: | H30: =H23+I28 -> 0 | J30: Year 3: | K30: =K23+L28 -> 0 | M30: Year 4: | N30: =N23+O28 -> 0 | P30: Year 5: | Q30: =Q23+R28 -> 0 | S30: Year 6: | T30: =T23+U28 -> 0 | V30: Year 7: | W30: =W23+X28 -> 0 | Y30: =Y23+Y28 -> 0

Sheet E&E-TO
A1: Transition-Out
A2: Bidder Name | B2: =Signature!C11 -> 0
A3: Instructions, Assumptions, and Notes
A4: Instructions 1. The Bidder must input values into the yellow cells, including: - The cost for the transition out scope of work. 2. If there is no cost associated with a yellow cell, enter "0" (zero). Assumptions - The Bidder's cost is inclusive of the level of effort (i.e., activities and tasks) to transition M&O of the Converged E&E System and AMS components to the Department or a successor Contractor. - The Bidder will be able to transition each EDW component. Notes 1. When the bidder inputs their Transition-Out cost, it is allocated in proportion to the overall M&O cost for the respective module.
A6: Total Transition-Out Cost1 | C6: 0
A8: # | B8: Deliverable | C8: Frequency | D8: AMS | E8: Converged E&E System Components | AR8: Total
